Workbook
Name AMortisationPeriod_Years: Parameters!$B$17
Name BESS_MW: Parameters!$B$21
Name CapCreditsMultiplier_Flex: Parameters!$C$81
Name CapCreditsMultiplier_Peak: Parameters!$C$80
Name CashCycle_Days: Parameters!$B$50
Name ConfigParamsTable: Parameters!$C$56:$AC$96
Name ConfigRow_DBNGPTariff_MillionsPerYear: Parameters!$C$78
Name ConfigRow_ElecConnCost_Millions: Parameters!$C$73
Name ConfigRow_GasBara: Parameters!$C$64
Name ConfigRow_GAsConnCost_Millions: Parameters!$C$74
Name ConfigRow_IASRSelection: Parameters!$C$57
Name ConfigRow_LandAreaHa: Parameters!$C$71
Name ConfigRow_LocalisationFactor: Parameters!$C$68
Name ConfigRow_NetHR: Parameters!$C$63
Name ConfigRow_NetMW: Parameters!$C$61
Name ConfigRow_NumberOfConnections: Parameters!$C$70
Name ConfigRow_TUOSTotal_Millions: Parameters!$C$87
Name ConfigRow_WaterConnCost_Millions: Parameters!$C$75
Name ConfigRow_WC_MillionsPerYear: Parameters!$C$95
Name CorporateOVerhead_DollarsPerYear: Parameters!$B$42
Name CPI_fcst_Table: CPI_FX!$S$14:$U$22
Name CPI_Hist_Ref_Date: Parameters!$B$11
Name CPI_Historic_table: CPI_FX!$F$24:$G$442
Name CPIIndex_BRCPDate: Parameters!$B$14
Name CPIIndex_CurrDate: Parameters!$B$13
Name CPIIndex_RefDate: Parameters!$B$12
Name Date_BRCP: Parameters!$B$5
Name Date_Current: Parameters!$B$4
Name DistilateCost_DollarsPerGJ: Distillate!$J$11
Name ElectricalConnectionSelectionList: WP!$C$5:$C$6
Name ElectricalCOnnectonsCostTable: WP!$C$5:$D$6
Name FilePath: TFlow33!#REF!
Name FilePath: [1]Transfer!#REF!
Name FixedCapitalCharge_DollarsPerMW: Parameters!$B$25
Name FOMFactor_ElecConn: Parameters!$B$32
Name FOMFactor_GasConn: Parameters!$B$33
Name FuelStored_Distillate_Hours: Parameters!$B$49
Name FuelStored_GAs_Hours: Parameters!$B$48
Name FX_Date: Parameters!$B$8
Name Fx_Rate: Parameters!$B$9
Name fx_table: CPI_FX!$A$24:$B$918
Name Gas_DBNGPTariff_DollarsPerGJPerDay: Gas!$B$74
Name GasConn_CapexColumn: Gas!$T$37
Name GasConn_CostRefDate: Gas!$C$4
Name GasConn_MDQColumn: Gas!$K$37
Name GasConn_SkinnyLateral_RefPressureMPA: Gas!$B$54
Name GasConn_SkinnyLateralVelocity: Gas!$B$53
Name GasConn_Table: Gas!$A$40:$U$66
Name GasConns_PipelineDistance: Gas!$C$19
Name GasCost_DollarsPerGJ: Gas!$B$82
Name IASR_BESS6_RefCapex: IASR!$M$21
Name IASR_BESS7_RefCapex: IASR!$M$22
Name IASR_BESS8_RefCapex: IASR!$M$23
Name IASR_FOMTable_DollarPerkWPerY: IASR!$A$38:$B$47
Name IASR_InstallationPercentTable: IASR!$A$78:$H$87
Name IASR_VOMTable_DollarsPerMWh: IASR!$A$60:$B$69
Name IASRSelectionList: IASR!$A$15:$A$24
Name IncludeFixedCappitalContributionCHarge: Parameters!$B$24
Name InsuranceAdjustment_PercentPerYear: Parameters!$B$43
Name LandCost_DollarsPerHa: Parameters!$B$28

Sheet Title
A18: This workbook has been developed for the purposes of assessing the least fixed cost candidate configuration for the draft determination of the 2026 Benchmark Technology.
A20: It is not for use for any other purpose and is not to be relied upon by any party besides EPWA for the use of its intended purpose above.

Sheet Parameters
A1: Parameters
A4: Current date | B4: 46203
A5: BRCP date | B5: 47299 | F5: Date the plant is assumed to be built by. BRCP costs expressed in these dollars
A8: Fx date | B8: 45838 | F8: GHD, CSIRO and IASR values are $2025
A9: Fx rate | B9: =VLOOKUP(FX_Date,fx_table,2) -> 0.655
A11: Ref date for technology costs | B11: =FX_Date -> 45838 | F11: Same as fx date
A12: CPI index at Ref date | B12: =VLOOKUP(CPI_Hist_Ref_Date,CPI_Historic_table,2) -> 98.43
A13: CPI index at current date | B13: =VLOOKUP(Date_Current,CPI_Historic_table,2) -> 101.7
A14: CPI index at BRCP date | B14: =VLOOKUP(Date_BRCP,CPI_fcst_Table,3) -> 111.38681
A16: WACC | B16: 0.1085 | F16: ERA: 2026-brcp-final-determination-calculation-spreadsheet
A17: Amortisation period | B17: 15 | F17: ERA: 2026-brcp-final-determination-calculation-spreadsheet
A18: Tilt factor | B18: 1
A20: Owner's cost allowances for thermal plant | B20: 0.12 | F20: GHD for AEMO. Note incl land as well as owners and development costs but this is ignored as small and not dissected
A21: Notional BESS size | B21: 200 | C21: MW net | F21: Used to convert $/kW and $/kW/y parameters (from IASR) into $
A23: Pre-FID development cost | B23: 20 | C23: $M | F23: Nominal allowance. Same for all configurations
A24: Include Fixed Capital charge? | B24: TRUE | F24: EPWA to include or exclude
A25: Fixed Capital charge value | B25: 100000 | C25: $/MW | F25: https://www.wa.gov.au/organisation/energy-policy-wa/fixed-capital-contribution-consultation
A27: Site location | B27: Average
A28: Land cost | B28: =VLOOKUP(SiteLocation,LandgateTable,3,FALSE) -> 536250 | C28: $/Ha | F28: Refer land tab
A29: Proportion of installation cost that is labour | B29: 0.3 | F29: See TFlow33 sheet for guidance
A31: Fixed maintenance factors (% of capex)
A32: - Electricity connection | B32: 0.005 | F32: Jacobs
A33: - Gas connection | B33: 0.0025 | F33: Jacobs
A35: TUOS charge parameters: | F35: Refer WP sheet
A36: - Use of system | B36: =TUOS_centsPerkWperDay -> 2.147 | C36: c/kW/day
A37: - Control system service price | B37: =TUOS_ControlSystemServei_centsPerkWPerDay -> 0.305 | C37: c/kW/day
A38: - Metering charge | B38: =TUOS_Metering_centsPerMeterPerDay -> 1211.979 | C38: c/meter/day
A40: DBNGP tariff | B40: =Gas_DBNGPTariff_DollarsPerGJPerDay -> 1.818828 | C40: $/GJ/day | F40: Refer Gas sheet
A42: Corporate overhead and consulting costs | B42: 1312875 | C42: $/y | F42: GHD report 2028/29 Table 20
A43: Insurance adjustment | B43: 0.003 | C43: of capex/year (excl extras which are offsite or N/A) | F43: Added by Jacobs as we were not satisfied was in the IASR amounts adequately (referencing source GHD etc reports)
A44: Site security | B44: 168480 | C44: $/y | F44: GHD report 2028/29 Table 21
A45: Rates | B45: 221986 | C45: $ per 7.3 Ha | F45: GHD report 2028/29 Table 22
B46: =B45/7.3 -> 30409.041 | C46: $/Ha
A48: Fuel stored - Gas Only case | B48: 14 | C48: Hours
A49: Fuel stored - DF case | B49: =1.5*24 -> 36 | C49: Hours | F49: 1.5 days when distillate is the RCP fuel, allows for order lag, leaving some in tank etc
A50: Cash cycle for WC calc | B50: 45 | C50: Days | F50: Assumption
A52: Selected technical parameters:
A53: Configuration | G53: SCGT | H53: SCGT | I53: SCGT | J53: SCGT | K53: SCGT | L53: SCGT | M53: SCGT | N53: SCGT | O53: SCGT | P53: SCGT | Q53: SCGT | R53: SCGT | S53: CCGT | T53: CCGT | U53: CCGT | V53: CCGT | W53: RECIP | X53: RECIP | Y53: RECIP | Z53: RECIP | AA53: BESS | AB53: BESS | AC53: BESS
G54: GT13E2 | H54: GT13E2 | I54: SGT5-2000E | J54: SGT5-2000E | K54: 1x9FA | L54: 1x9FA | M54: LM2500 | N54: LM2500 | O54: LM6000 | P54: LM6000 | Q54: LMS100 | R54: LMS100 | S54: 9FA | T54: 9FA | U54: GT13E2 | V54: GT13E2 | W54: Jenbacher | X54: Jenbacher | Y54: Wartsila | Z54: Wartsila | AA54: 6hr | AB54: 7hr | AC54: 8hr
C55: Row | G55: DF | H55: GasOnly | I55: DF | J55: GasOnly | K55: DF | L55: GasOnly | M55: GasOnly | N55: DF | O55: DF | P55: GasOnly | Q55: DF | R55: GasOnly | S55: DF | T55: GasOnly | U55: DF | V55: GasOnly | W55: DF | X55: GasOnly | Y55: DF | Z55: GasOnly
...

Sheet Calculations
A4: Calculations
A5: Configuration | G5: SCGT | H5: SCGT | I5: SCGT | J5: SCGT | K5: SCGT | L5: SCGT | M5: SCGT | N5: SCGT | O5: SCGT | P5: SCGT | Q5: SCGT | R5: SCGT | S5: CCGT | T5: CCGT | U5: CCGT | V5: CCGT | W5: RECIP | X5: RECIP | Y5: RECIP | Z5: RECIP | AA5: BESS | AB5: BESS | AC5: BESS
G6: GT13E2 | H6: GT13E2 | I6: SGT5-2000E | J6: SGT5-2000E | K6: 1x9FA | L6: 1x9FA | M6: LM2500 | N6: LM2500 | O6: LM6000 | P6: LM6000 | Q6: LMS100 | R6: LMS100 | S6: 9FA | T6: 9FA | U6: GT13E2 | V6: GT13E2 | W6: Jenbacher | X6: Jenbacher | Y6: Wartsila | Z6: Wartsila | AA6: 6hr | AB6: 7hr | AC6: 8hr
G7: DF | H7: GasOnly | I7: DF | J7: GasOnly | K7: DF | L7: GasOnly | M7: GasOnly | N7: DF | O7: DF | P7: GasOnly | Q7: DF | R7: GasOnly | S7: DF | T7: GasOnly | U7: DF | V7: GasOnly | W7: DF | X7: GasOnly | Y7: DF | Z7: GasOnly
A8: Tag | G8: =G5&"_"&G6&IF(G7<>"","_"&G7,"") -> SCGT _GT13E2 _DF | H8: =H5&"_"&H6&IF(H7<>"","_"&H7,"") -> SCGT _GT13E2 _GasOnly | I8: =I5&"_"&I6&IF(I7<>"","_"&I7,"") -> SCGT _SGT5-2000E _DF | J8: =J5&"_"&J6&IF(J7<>"","_"&J7,"") -> SCGT _SGT5-2000E _GasOnly | K8: =K5&"_"&K6&IF(K7<>"","_"&K7,"") -> SCGT _1x9FA _DF | L8: =L5&"_"&L6&IF(L7<>"","_"&L7,"") -> SCGT _1x9FA _GasOnly | M8: =M5&"_"&M6&IF(M7<>"","_"&M7,"") -> SCGT _LM2500 _GasOnly | N8: =N5&"_"&N6&IF(N7<>"","_"&N7,"") -> SCGT _LM2500 _DF | ... AC8: =AC5&"_"&AC6&IF(AC7<>"","_"&AC7,"") -> BESS_8hr
A9: IASR selection | G9: =HLOOKUP(G$8,ConfigParamsTable,ConfigRow_IASRSelection,FALSE) -> OCGT (large GT) | H9: =HLOOKUP(H$8,ConfigParamsTable,ConfigRow_IASRSelection,FALSE) -> OCGT (large GT) | I9: =HLOOKUP(I$8,ConfigParamsTable,ConfigRow_IASRSelection,FALSE) -> OCGT (large GT) | J9: =HLOOKUP(J$8,ConfigParamsTable,ConfigRow_IASRSelection,FALSE) -> OCGT (large GT) | K9: =HLOOKUP(K$8,ConfigParamsTable,ConfigRow_IASRSelection,FALSE) -> OCGT (large GT) | L9: =HLOOKUP(L$8,ConfigParamsTable,ConfigRow_IASRSelection,FALSE) -> OCGT (large GT) | M9: =HLOOKUP(M$8,ConfigParamsTable,ConfigRow_IASRSelection,FALSE) -> OCGT (small GT) | N9: =HLOOKUP(N$8,ConfigParamsTable,ConfigRow_IASRSelection,FALSE) -> OCGT (small GT) | ... AC9: =HLOOKUP(AC$8,ConfigParamsTable,ConfigRow_IASRSelection,FALSE) -> Battery storage (8hrs storage)
AA10: =IASR_BESS6_RefCapex -> 1807.1356 | AB10: =IASR_BESS7_RefCapex -> 2021.8461 | AC10: =IASR_BESS8_RefCapex -> 2237.7778
A11: Configuration net MW (clean-as-new) | G11: =HLOOKUP(G$8,ConfigParamsTable,ConfigRow_NetMW,FALSE) -> 341.18866 | H11: =HLOOKUP(H$8,ConfigParamsTable,ConfigRow_NetMW,FALSE) -> 341.18866 | I11: =HLOOKUP(I$8,ConfigParamsTable,ConfigRow_NetMW,FALSE) -> 347.77304 | J11: =HLOOKUP(J$8,ConfigParamsTable,ConfigRow_NetMW,FALSE) -> 347.77304 | K11: =HLOOKUP(K$8,ConfigParamsTable,ConfigRow_NetMW,FALSE) -> 258.24078 | L11: =HLOOKUP(L$8,ConfigParamsTable,ConfigRow_NetMW,FALSE) -> 258.3028 | M11: =HLOOKUP(M$8,ConfigParamsTable,ConfigRow_NetMW,FALSE) -> 380.22583 | N11: =HLOOKUP(N$8,ConfigParamsTable,ConfigRow_NetMW,FALSE) -> 380.22583 | ... AC11: =HLOOKUP(AC$8,ConfigParamsTable,ConfigRow_NetMW,FALSE) -> 200
A12: # electrical connections | G12: =HLOOKUP(G$8,ConfigParamsTable,ConfigRow_NumberOfConnections,FALSE) -> 2 | H12: =HLOOKUP(H$8,ConfigParamsTable,ConfigRow_NumberOfConnections,FALSE) -> 2 | I12: =HLOOKUP(I$8,ConfigParamsTable,ConfigRow_NumberOfConnections,FALSE) -> 2 | J12: =HLOOKUP(J$8,ConfigParamsTable,ConfigRow_NumberOfConnections,FALSE) -> 2 | K12: =HLOOKUP(K$8,ConfigParamsTable,ConfigRow_NumberOfConnections,FALSE) -> 1 | L12: =HLOOKUP(L$8,ConfigParamsTable,ConfigRow_NumberOfConnections,FALSE) -> 1 | M12: =HLOOKUP(M$8,ConfigParamsTable,ConfigRow_NumberOfConnections,FALSE) -> 2 | N12: =HLOOKUP(N$8,ConfigParamsTable,ConfigRow_NumberOfConnections,FALSE) -> 2 | ... AC12: =HLOOKUP(AC$8,ConfigParamsTable,ConfigRow_NumberOfConnections,FALSE) -> 1
A14: BESS, $/kW, AUD, $2025
A15: Powerplant cost | C15: USD, at notional Vic location, $2025 | F15: EPC+Owners | G15: =TFlow33!G34 -> 3.3072444e+08 | H15: =TFlow33!H34 -> 3.2332649e+08 | I15: =TFlow33!I34 -> 3.2987809e+08 | J15: =TFlow33!J34 -> 3.2248892e+08 | K15: =TFlow33!K34 -> 2.7864292e+08 | L15: =TFlow33!L34 -> 2.56949e+08 | M15: =TFlow33!M34 -> 5.9908868e+08 | N15: =TFlow33!N34 -> 6.1368485e+08 | ... Z15: =TFlow33!Z34 -> 3.0933523e+08
C16: AUD, at notional Vic location, $2025 | F16: EPC+Owners | G16: =G15/Fx_Rate -> 5.0492281e+08 | H16: =H15/Fx_Rate -> 4.9362823e+08 | I16: =I15/Fx_Rate -> 5.0363066e+08 | J16: =J15/Fx_Rate -> 4.923495e+08 | K16: =K15/Fx_Rate -> 4.2540904e+08 | L16: =L15/Fx_Rate -> 3.9228855e+08 | M16: =M15/Fx_Rate -> 9.146392e+08 | N16: =N15/Fx_Rate -> 9.3692344e+08 | ... Z16: =Z15/Fx_Rate -> 4.7226752e+08 | AA16: =AA11*AA10*1000 -> 3.6142712e+08 | AB16: =AB11*AB10*1000 -> 4.0436922e+08 | AC16: =AC11*AC10*1000 -> 4.4755556e+08
C17: AUD, at notional Vic location, $2026 | F17: EPC+Owners | G17: =G16*CPIIndex_CurrDate/CPIIndex_RefDate -> 5.2169714e+08 | H17: =H16*CPIIndex_CurrDate/CPIIndex_RefDate -> 5.1002734e+08 | I17: =I16*CPIIndex_CurrDate/CPIIndex_RefDate -> 5.2036207e+08 | J17: =J16*CPIIndex_CurrDate/CPIIndex_RefDate -> 5.0870612e+08 | K17: =K16*CPIIndex_CurrDate/CPIIndex_RefDate -> 4.3954179e+08 | L17: =L16*CPIIndex_CurrDate/CPIIndex_RefDate -> 4.05321e+08 | M17: =M16*CPIIndex_CurrDate/CPIIndex_RefDate -> 9.4502496e+08 | N17: =N16*CPIIndex_CurrDate/CPIIndex_RefDate -> 9.6804952e+08 | ... AC17: =AC16*CPIIndex_CurrDate/CPIIndex_RefDate -> 4.6242406e+08
C18: ="AUD, at "&SiteLocation&" location, $2026" -> AUD, at Average location, $2026 | F18: EPC+Owners | G18: =G17*HLOOKUP(G8,ConfigParamsTable,ConfigRow_LocalisationFactor,FALSE) -> 5.451324e+08 | H18: =H17*HLOOKUP(H8,ConfigParamsTable,ConfigRow_LocalisationFactor,FALSE) -> 5.3293838e+08 | I18: =I17*HLOOKUP(I8,ConfigParamsTable,ConfigRow_LocalisationFactor,FALSE) -> 5.4373736e+08 | J18: =J17*HLOOKUP(J8,ConfigParamsTable,ConfigRow_LocalisationFactor,FALSE) -> 5.3155782e+08 | K18: =K17*HLOOKUP(K8,ConfigParamsTable,ConfigRow_LocalisationFactor,FALSE) -> 4.5928654e+08 | L18: =L17*HLOOKUP(L8,ConfigParamsTable,ConfigRow_LocalisationFactor,FALSE) -> 4.2352851e+08 | M18: =M17*HLOOKUP(M8,ConfigParamsTable,ConfigRow_LocalisationFactor,FALSE) -> 9.8747662e+08 | N18: =N17*HLOOKUP(N8,ConfigParamsTable,ConfigRow_LocalisationFactor,FALSE) -> 1.0115355e+09 | ... AC18: =AC17*HLOOKUP(AC8,ConfigParamsTable,ConfigRow_LocalisationFactor,FALSE) -> 4.7427361e+08
A20: $ extras
A21: Pre-FID development | G21: =PreFIDCost_Millions*1000000 -> 20000000 | H21: =PreFIDCost_Millions*1000000 -> 20000000 | I21: =PreFIDCost_Millions*1000000 -> 20000000 | J21: =PreFIDCost_Millions*1000000 -> 20000000 | K21: =PreFIDCost_Millions*1000000 -> 20000000 | L21: =PreFIDCost_Millions*1000000 -> 20000000 | M21: =PreFIDCost_Millions*1000000 -> 20000000 | N21: =PreFIDCost_Millions*1000000 -> 20000000 | ... AC21: =PreFIDCost_Millions*1000000 -> 20000000
A22: Land (PS) | G22: =HLOOKUP(G$8,ConfigParamsTable,ConfigRow_LandAreaHa,FALSE)*LandCost_DollarsPerHa -> 1442512.5 | H22: =HLOOKUP(H$8,ConfigParamsTable,ConfigRow_LandAreaHa,FALSE)*LandCost_DollarsPerHa -> 1221577.5 | I22: =HLOOKUP(I$8,ConfigParamsTable,ConfigRow_LandAreaHa,FALSE)*LandCost_DollarsPerHa -> 1396395 | J22: =HLOOKUP(J$8,ConfigParamsTable,ConfigRow_LandAreaHa,FALSE)*LandCost_DollarsPerHa -> 1180286.2 | K22: =HLOOKUP(K$8,ConfigParamsTable,ConfigRow_LandAreaHa,FALSE)*LandCost_DollarsPerHa -> 1311667.5 | L22: =HLOOKUP(L$8,ConfigParamsTable,ConfigRow_LandAreaHa,FALSE)*LandCost_DollarsPerHa -> 973293.75 | M22: =HLOOKUP(M$8,ConfigParamsTable,ConfigRow_LandAreaHa,FALSE)*LandCost_DollarsPerHa -> 2064026.2 | N22: =HLOOKUP(N$8,ConfigParamsTable,ConfigRow_LandAreaHa,FALSE)*LandCost_DollarsPerHa -> 2449590 | ... AC22: =HLOOKUP(AC$8,ConfigParamsTable,ConfigRow_LandAreaHa,FALSE)*LandCost_DollarsPerHa -> 7400250
A23: Electrical connection | G23: =VLOOKUP(G$12,ElectricalCOnnectonsCostTable,2,FALSE) -> 41500202 | H23: =VLOOKUP(H$12,ElectricalCOnnectonsCostTable,2,FALSE) -> 41500202 | I23: =VLOOKUP(I$12,ElectricalCOnnectonsCostTable,2,FALSE) -> 41500202 | J23: =VLOOKUP(J$12,ElectricalCOnnectonsCostTable,2,FALSE) -> 41500202 | K23: =VLOOKUP(K$12,ElectricalCOnnectonsCostTable,2,FALSE) -> 26550101 | L23: =VLOOKUP(L$12,ElectricalCOnnectonsCostTable,2,FALSE) -> 26550101 | M23: =VLOOKUP(M$12,ElectricalCOnnectonsCostTable,2,FALSE) -> 41500202 | N23: =VLOOKUP(N$12,ElectricalCOnnectonsCostTable,2,FALSE) -> 41500202 | ... AC23: =VLOOKUP(AC$12,ElectricalCOnnectonsCostTable,2,FALSE) -> 26550101
A24: Electrical Fixed Capital Contribution charge | G24: =IF(IncludeFixedCappitalContributionCHarge,FixedCapitalCharge_DollarsPerMW,0)*G$11 -> 34118866 | H24: =IF(IncludeFixedCappitalContributionCHarge,FixedCapitalCharge_DollarsPerMW,0)*H$11 -> 34118866 | I24: =IF(IncludeFixedCappitalContributionCHarge,FixedCapitalCharge_DollarsPerMW,0)*I$11 -> 34777304 | J24: =IF(IncludeFixedCappitalContributionCHarge,FixedCapitalCharge_DollarsPerMW,0)*J$11 -> 34777304 | K24: =IF(IncludeFixedCappitalContributionCHarge,FixedCapitalCharge_DollarsPerMW,0)*K$11 -> 25824078 | L24: =IF(IncludeFixedCappitalContributionCHarge,FixedCapitalCharge_DollarsPerMW,0)*L$11 -> 25830280 | M24: =IF(IncludeFixedCappitalContributionCHarge,FixedCapitalCharge_DollarsPerMW,0)*M$11 -> 38022583 | N24: =IF(IncludeFixedCappitalContributionCHarge,FixedCapitalCharge_DollarsPerMW,0)*N$11 -> 38022583 | ... AC24: =IF(IncludeFixedCappitalContributionCHarge,FixedCapitalCharge_DollarsPerMW,0)*AC$11 -> 20000000
A25: Gas connection | G25: =HLOOKUP(G$8,ConfigParamsTable,ConfigRow_GAsConnCost_Millions,FALSE)*1000000 -> 28793694 | H25: =HLOOKUP(H$8,ConfigParamsTable,ConfigRow_GAsConnCost_Millions,FALSE)*1000000 -> 1.0263234e+08 | I25: =HLOOKUP(I$8,ConfigParamsTable,ConfigRow_GAsConnCost_Millions,FALSE)*1000000 -> 28793694 | J25: =HLOOKUP(J$8,ConfigParamsTable,ConfigRow_GAsConnCost_Millions,FALSE)*1000000 -> 95580709 | K25: =HLOOKUP(K$8,ConfigParamsTable,ConfigRow_GAsConnCost_Millions,FALSE)*1000000 -> 22095270 | L25: =HLOOKUP(L$8,ConfigParamsTable,ConfigRow_GAsConnCost_Millions,FALSE)*1000000 -> 78717350 | M25: =HLOOKUP(M$8,ConfigParamsTable,ConfigRow_GAsConnCost_Millions,FALSE)*1000000 -> 1.181609e+08 | N25: =HLOOKUP(N$8,ConfigParamsTable,ConfigRow_GAsConnCost_Millions,FALSE)*1000000 -> 28793694 | ... AC25: =HLOOKUP(AC$8,ConfigParamsTable,ConfigRow_GAsConnCost_Millions,FALSE)*1000000 -> 0
A26: Water (external infrastructure) | G26: =HLOOKUP(G$8,ConfigParamsTable,ConfigRow_WaterConnCost_Millions,FALSE)*1000000 -> 0 | H26: =HLOOKUP(H$8,ConfigParamsTable,ConfigRow_WaterConnCost_Millions,FALSE)*1000000 -> 0 | I26: =HLOOKUP(I$8,ConfigParamsTable,ConfigRow_WaterConnCost_Millions,FALSE)*1000000 -> 0 | J26: =HLOOKUP(J$8,ConfigParamsTable,ConfigRow_WaterConnCost_Millions,FALSE)*1000000 -> 0 | K26: =HLOOKUP(K$8,ConfigParamsTable,ConfigRow_WaterConnCost_Millions,FALSE)*1000000 -> 0 | L26: =HLOOKUP(L$8,ConfigParamsTable,ConfigRow_WaterConnCost_Millions,FALSE)*1000000 -> 0 | M26: =HLOOKUP(M$8,ConfigParamsTable,ConfigRow_WaterConnCost_Millions,FALSE)*1000000 -> 0 | N26: =HLOOKUP(N$8,ConfigParamsTable,ConfigRow_WaterConnCost_Millions,FALSE)*1000000 -> 0 | ... AC26: =HLOOKUP(AC$8,ConfigParamsTable,ConfigRow_WaterConnCost_Millions,FALSE)*1000000 -> 0
A27: Total extras | G27: =SUM(G21:G26) -> 1.2585527e+08 | H27: =SUM(H21:H26) -> 1.9947299e+08 | I27: =SUM(I21:I26) -> 1.2646759e+08 | J27: =SUM(J21:J26) -> 1.930385e+08 | K27: =SUM(K21:K26) -> 95781117 | L27: =SUM(L21:L26) -> 1.5207102e+08 | M27: =SUM(M21:M26) -> 2.1974771e+08 | N27: =SUM(N21:N26) -> 1.3076607e+08 | ... AC27: =SUM(AC21:AC26) -> 73950351
A29: Total capex incl extras | G29: =G18+G27 -> 6.7098768e+08 | H29: =H18+H27 -> 7.3241137e+08 | I29: =I18+I27 -> 6.7020496e+08 | J29: =J18+J27 -> 7.2459632e+08 | K29: =K18+K27 -> 5.5506766e+08 | L29: =L18+L27 -> 5.7559953e+08 | M29: =M18+M27 -> 1.2072243e+09 | N29: =N18+N27 -> 1.1423015e+09 | ... AC29: =AC18+AC27 -> 5.4822396e+08
A30: $/kW ($2026) | G30: =G29/G11/1000 -> 1966.6178 | H30: =H29/H11/1000 -> 2146.6463 | I30: =I29/I11/1000 -> 1927.1332 | J30: =J29/J11/1000 -> 2083.5322 | K30: =K29/K11/1000 -> 2149.419 | L30: =L29/L11/1000 -> 2228.3906 | M30: =M29/M11/1000 -> 3175.0192 | N30: =N29/N11/1000 -> 3004.2713 | ... AC30: =AC29/AC11/1000 -> 2741.1198
A31: Annualised capex | B31: $/year | G31: =PMT(WACC, AMortisationPeriod_Years,-1*G29)*TiltFactor -> 92539681 | H31: =PMT(WACC, AMortisationPeriod_Years,-1*H29)*TiltFactor -> 1.0101097e+08 | I31: =PMT(WACC, AMortisationPeriod_Years,-1*I29)*TiltFactor -> 92431731 | J31: =PMT(WACC, AMortisationPeriod_Years,-1*J29)*TiltFactor -> 99933150 | K31: =PMT(WACC, AMortisationPeriod_Years,-1*K29)*TiltFactor -> 76552500 | L31: =PMT(WACC, AMortisationPeriod_Years,-1*L29)*TiltFactor -> 79384166 | M31: =PMT(WACC, AMortisationPeriod_Years,-1*M29)*TiltFactor -> 1.6649509e+08 | N31: =PMT(WACC, AMortisationPeriod_Years,-1*N29)*TiltFactor -> 1.5754122e+08 | ... AC31: =PMT(WACC, AMortisationPeriod_Years,-1*AC29)*TiltFactor -> 75608647
B32: $/MW/y | G32: =PMT(WACC, AMortisationPeriod_Years,-1*G30)*TiltFactor*1000 -> 271227.31 | H32: =PMT(WACC, AMortisationPeriod_Years,-1*H30)*TiltFactor*1000 -> 296056.05 | I32: =PMT(WACC, AMortisationPeriod_Years,-1*I30)*TiltFactor*1000 -> 265781.76 | J32: =PMT(WACC, AMortisationPeriod_Years,-1*J30)*TiltFactor*1000 -> 287351.63 | K32: =PMT(WACC, AMortisationPeriod_Years,-1*K30)*TiltFactor*1000 -> 296438.46 | L32: =PMT(WACC, AMortisationPeriod_Years,-1*L30)*TiltFactor*1000 -> 307329.87 | M32: =PMT(WACC, AMortisationPeriod_Years,-1*M30)*TiltFactor*1000 -> 437884.74 | N32: =PMT(WACC, AMortisationPeriod_Years,-1*N30)*TiltFactor*1000 -> 414335.93 | ... AC32: =PMT(WACC, AMortisationPeriod_Years,-1*AC30)*TiltFactor*1000 -> 378043.24
A33: "Weighted average cost of capital" factor | B33: $/MW/y | G33: =((1+WACC)^0.5-1)*G32 -> 14335.249 | H33: =((1+WACC)^0.5-1)*H32 -> 15647.529 | I33: =((1+WACC)^0.5-1)*I32 -> 14047.434 | J33: =((1+WACC)^0.5-1)*J32 -> 15187.472 | K33: =((1+WACC)^0.5-1)*K32 -> 15667.741 | L33: =((1+WACC)^0.5-1)*L32 -> 16243.388 | M33: =((1+WACC)^0.5-1)*M32 -> 23143.639 | N33: =((1+WACC)^0.5-1)*N32 -> 21899.007 | ... AC33: =((1+WACC)^0.5-1)*AC32 -> 19980.82
A36: FOM, $/MW/y
A37: Plant FOM, Technology IASR | G37: =VLOOKUP(G9,IASR_FOMTable_DollarPerkWPerY,2,FALSE)*1000 -> 14323.408 | H37: =VLOOKUP(H9,IASR_FOMTable_DollarPerkWPerY,2,FALSE)*1000 -> 14323.408 | I37: =VLOOKUP(I9,IASR_FOMTable_DollarPerkWPerY,2,FALSE)*1000 -> 14323.408 | J37: =VLOOKUP(J9,IASR_FOMTable_DollarPerkWPerY,2,FALSE)*1000 -> 14323.408 | K37: =VLOOKUP(K9,IASR_FOMTable_DollarPerkWPerY,2,FALSE)*1000 -> 14323.408 | L37: =VLOOKUP(L9,IASR_FOMTable_DollarPerkWPerY,2,FALSE)*1000 -> 14323.408 | M37: =VLOOKUP(M9,IASR_FOMTable_DollarPerkWPerY,2,FALSE)*1000 -> 17685.834 | N37: =VLOOKUP(N9,IASR_FOMTable_DollarPerkWPerY,2,FALSE)*1000 -> 17685.834 | ... AC37: =VLOOKUP(AC9,IASR_FOMTable_DollarPerkWPerY,2,FALSE)*1000 -> 37982.59
A38: Transmission connection asset maintenance | G38: =G23*FOMFactor_ElecConn/G11 -> 608.17089 | H38: =H23*FOMFactor_ElecConn/H11 -> 608.17089 | I38: =I23*FOMFactor_ElecConn/I11 -> 596.6564 | J38: =J23*FOMFactor_ElecConn/J11 -> 596.6564 | K38: =K23*FOMFactor_ElecConn/K11 -> 514.05709 | L38: =L23*FOMFactor_ElecConn/L11 -> 513.93368 | M38: =M23*FOMFactor_ElecConn/M11 -> 545.73097 | N38: =N23*FOMFactor_ElecConn/N11 -> 545.73097 | ... AC38: =AC23*FOMFactor_ElecConn/AC11 -> 663.75252
A39: Transmission NUOS | G39: =HLOOKUP(G$8,ConfigParamsTable,ConfigRow_TUOSTotal_Millions,FALSE)*1000000/G$11 -> 8981.879 | H39: =HLOOKUP(H$8,ConfigParamsTable,ConfigRow_TUOSTotal_Millions,FALSE)*1000000/H$11 -> 8981.879 | I39: =HLOOKUP(I$8,ConfigParamsTable,ConfigRow_TUOSTotal_Millions,FALSE)*1000000/I$11 -> 8981.3877 | J39: =HLOOKUP(J$8,ConfigParamsTable,ConfigRow_TUOSTotal_Millions,FALSE)*1000000/J$11 -> 8981.3877 | K39: =HLOOKUP(K$8,ConfigParamsTable,ConfigRow_TUOSTotal_Millions,FALSE)*1000000/K$11 -> 8990.2139 | L39: =HLOOKUP(L$8,ConfigParamsTable,ConfigRow_TUOSTotal_Millions,FALSE)*1000000/L$11 -> 8990.2057 | M39: =HLOOKUP(M$8,ConfigParamsTable,ConfigRow_TUOSTotal_Millions,FALSE)*1000000/M$11 -> 8979.2149 | N39: =HLOOKUP(N$8,ConfigParamsTable,ConfigRow_TUOSTotal_Millions,FALSE)*1000000/N$11 -> 8979.2149 | ... AC39: =HLOOKUP(AC$8,ConfigParamsTable,ConfigRow_TUOSTotal_Millions,FALSE)*1000000/AC$11 -> 9000.1975
A40: DBNGP capacity | G40: =HLOOKUP(G$8,ConfigParamsTable,ConfigRow_DBNGPTariff_MillionsPerYear,FALSE)/G$11*1000000 -> 0 | H40: =HLOOKUP(H$8,ConfigParamsTable,ConfigRow_DBNGPTariff_MillionsPerYear,FALSE)/H$11*1000000 -> 100599.66 | I40: =HLOOKUP(I$8,ConfigParamsTable,ConfigRow_DBNGPTariff_MillionsPerYear,FALSE)/I$11*1000000 -> 0 | J40: =HLOOKUP(J$8,ConfigParamsTable,ConfigRow_DBNGPTariff_MillionsPerYear,FALSE)/J$11*1000000 -> 103544.24 | K40: =HLOOKUP(K$8,ConfigParamsTable,ConfigRow_DBNGPTariff_MillionsPerYear,FALSE)/K$11*1000000 -> 0 | L40: =HLOOKUP(L$8,ConfigParamsTable,ConfigRow_DBNGPTariff_MillionsPerYear,FALSE)/L$11*1000000 -> 98921.458 | M40: =HLOOKUP(M$8,ConfigParamsTable,ConfigRow_DBNGPTariff_MillionsPerYear,FALSE)/M$11*1000000 -> 96697.578 | N40: =HLOOKUP(N$8,ConfigParamsTable,ConfigRow_DBNGPTariff_MillionsPerYear,FALSE)/N$11*1000000 -> 0 | ... AC40: =HLOOKUP(AC$8,ConfigParamsTable,ConfigRow_DBNGPTariff_MillionsPerYear,FALSE)/AC$11*1000000 -> 0
A41: Gas connection FOM | G41: =G25*FOMFactor_GasConn/G11 -> 210.98073 | H41: =H25*FOMFactor_GasConn/H11 -> 752.02047 | I41: =I25*FOMFactor_GasConn/I11 -> 206.98624 | J41: =J25*FOMFactor_GasConn/J11 -> 687.09113 | K41: =K25*FOMFactor_GasConn/K11 -> 213.90183 | L41: =L25*FOMFactor_GasConn/L11 -> 761.87087 | M41: =M25*FOMFactor_GasConn/M11 -> 776.9126 | N41: =N25*FOMFactor_GasConn/N11 -> 189.31968 | ... AC41: =AC25*FOMFactor_GasConn/AC11 -> 0
A42: Working capital | G42: =HLOOKUP(G$8,ConfigParamsTable,ConfigRow_WC_MillionsPerYear,FALSE)*1000000/G$11 -> 1748.2452 | H42: =HLOOKUP(H$8,ConfigParamsTable,ConfigRow_WC_MillionsPerYear,FALSE)*1000000/H$11 -> 2026.5912 | I42: =HLOOKUP(I$8,ConfigParamsTable,ConfigRow_WC_MillionsPerYear,FALSE)*1000000/I$11 -> 1783.4617 | J42: =HLOOKUP(J$8,ConfigParamsTable,ConfigRow_WC_MillionsPerYear,FALSE)*1000000/J$11 -> 2069.0336 | K42: =HLOOKUP(K$8,ConfigParamsTable,ConfigRow_WC_MillionsPerYear,FALSE)*1000000/K$11 -> 1752.2469 | L42: =HLOOKUP(L$8,ConfigParamsTable,ConfigRow_WC_MillionsPerYear,FALSE)*1000000/L$11 -> 2021.2058 | M42: =HLOOKUP(M$8,ConfigParamsTable,ConfigRow_WC_MillionsPerYear,FALSE)*1000000/M$11 -> 2046.9199 | N42: =HLOOKUP(N$8,ConfigParamsTable,ConfigRow_WC_MillionsPerYear,FALSE)*1000000/N$11 -> 1779.9244 | ... AC42: =HLOOKUP(AC$8,ConfigParamsTable,ConfigRow_WC_MillionsPerYear,FALSE)*1000000/AC$11 -> 859.07461
A43: Corporate overheads etc | G43: =CorporateOVerhead_DollarsPerYear/G11 -> 3847.9444 | H43: =CorporateOVerhead_DollarsPerYear/H11 -> 3847.9444 | I43: =CorporateOVerhead_DollarsPerYear/I11 -> 3775.0914 | J43: =CorporateOVerhead_DollarsPerYear/J11 -> 3775.0914 | K43: =CorporateOVerhead_DollarsPerYear/K11 -> 5083.9181 | L43: =CorporateOVerhead_DollarsPerYear/L11 -> 5082.6976 | M43: =CorporateOVerhead_DollarsPerYear/M11 -> 3452.8822 | N43: =CorporateOVerhead_DollarsPerYear/N11 -> 3452.8822 | ... AC43: =CorporateOVerhead_DollarsPerYear/AC11 -> 6564.375
A44: Insurance adjustment | G44: =InsuranceAdjustment_PercentPerYear*G18/G11 -> 4793.2344 | H44: =InsuranceAdjustment_PercentPerYear*H18/H11 -> 4686.0149 | I44: =InsuranceAdjustment_PercentPerYear*I18/I11 -> 4690.4501 | J44: =InsuranceAdjustment_PercentPerYear*J18/J11 -> 4585.3855 | K44: =InsuranceAdjustment_PercentPerYear*K18/K11 -> 5335.5617 | L44: =InsuranceAdjustment_PercentPerYear*L18/L11 -> 4918.977 | M44: =InsuranceAdjustment_PercentPerYear*M18/M11 -> 7791.2378 | N44: =InsuranceAdjustment_PercentPerYear*N18/N11 -> 7981.0633 | ... AC44: =InsuranceAdjustment_PercentPerYear*AC18/AC11 -> 7114.1042
A45: Site security | G45: =SiteSecurity_DollarsPerYear/G11 -> 493.80305 | H45: =SiteSecurity_DollarsPerYear/H11 -> 493.80305 | I45: =SiteSecurity_DollarsPerYear/I11 -> 484.45388 | J45: =SiteSecurity_DollarsPerYear/J11 -> 484.45388 | K45: =SiteSecurity_DollarsPerYear/K11 -> 652.41438 | L45: =SiteSecurity_DollarsPerYear/L11 -> 652.25775 | M45: =SiteSecurity_DollarsPerYear/M11 -> 443.10509 | N45: =SiteSecurity_DollarsPerYear/N11 -> 443.10509 | ... AC45: =SiteSecurity_DollarsPerYear/AC11 -> 842.4
A46: Rates | G46: =Rates_DollarsPerHectare*HLOOKUP(G$8,ConfigParamsTable,ConfigRow_LandAreaHa,FALSE)/G$11 -> 239.75099 | H46: =Rates_DollarsPerHectare*HLOOKUP(H$8,ConfigParamsTable,ConfigRow_LandAreaHa,FALSE)/H$11 -> 203.03077 | I46: =Rates_DollarsPerHectare*HLOOKUP(I$8,ConfigParamsTable,ConfigRow_LandAreaHa,FALSE)/I$11 -> 227.69201 | J46: =Rates_DollarsPerHectare*HLOOKUP(J$8,ConfigParamsTable,ConfigRow_LandAreaHa,FALSE)/J$11 -> 192.45396 | K46: =Rates_DollarsPerHectare*HLOOKUP(K$8,ConfigParamsTable,ConfigRow_LandAreaHa,FALSE)/K$11 -> 288.02776 | L46: =Rates_DollarsPerHectare*HLOOKUP(L$8,ConfigParamsTable,ConfigRow_LandAreaHa,FALSE)/L$11 -> 213.6733 | M46: =Rates_DollarsPerHectare*HLOOKUP(M$8,ConfigParamsTable,ConfigRow_LandAreaHa,FALSE)/M$11 -> 307.82864 | N46: =Rates_DollarsPerHectare*HLOOKUP(N$8,ConfigParamsTable,ConfigRow_LandAreaHa,FALSE)/N$11 -> 365.33157 | ... AC46: =Rates_DollarsPerHectare*HLOOKUP(AC$8,ConfigParamsTable,ConfigRow_LandAreaHa,FALSE)/AC$11 -> 2098.2238
A47: Total | G47: =SUM(G37:G46) -> 35247.416 | H47: =SUM(H37:H46) -> 136522.53 | I47: =SUM(I37:I46) -> 35069.587 | J47: =SUM(J37:J46) -> 139239.21 | K47: =SUM(K37:K46) -> 37153.749 | L47: =SUM(L37:L46) -> 136399.69 | M47: =SUM(M37:M46) -> 138727.24 | N47: =SUM(N37:N46) -> 41422.406 | ... AC47: =SUM(AC37:AC46) -> 65124.718
A49: Total annual costs | B49: $/MW/y | C49: ="$"&YEAR(Date_Current) -> $2026 | G49: =G32+G33+G47 -> 320809.97 | H49: =H32+H33+H47 -> 448226.11 | I49: =I32+I33+I47 -> 314898.78 | J49: =J32+J33+J47 -> 441778.31 | K49: =K32+K33+K47 -> 349259.95 | L49: =L32+L33+L47 -> 459972.95 | M49: =M32+M33+M47 -> 599755.63 | N49: =N32+N33+N47 -> 477657.35 | ... AC49: =AC32+AC33+AC47 -> 463148.77
...

Sheet WP
A3: Values adopted:
C4: # connections | D4: $M
C5: 1 | D5: 26550101
C6: 2 | D6: =D5+1500000+9450000+4000101 -> 41500202
A9: WesternPower
A10: Single connection:
A25: Double connection:
A26: Add CB, isolator and gantry landing to the breaker-and-half arrangement shown (assume 1.5M), add second tx line and easement value
A32: WesternPower tariffs | D32: 2026-27 Price List for the Western Power Network Proposed by Western Power on 31 March 2026
A33: Reference tariffs RT11, TRT2 and TRT3 | D33: https://www.erawa.com.au/sites/default/files/2026-27-price-list-for-the-western-power-network.PDF
A34: Substation | B34: TNI | C34: Use of System Price (c/kW/day)
A35: Albany | B35: WALB | C35: 3.093
A36: Alcoa Pinjarra | B36: WAPJ | C36: 2.749
A37: Badgingarra | B37: WBGA | C37: 3.153
A38: Bluewaters | B38: WBWP | C38: 3.112
A39: Boulder | B39: WBLD | C39: 2.239
A40: Cockburn PWS | B40: WCKB | C40: 1.887 | F40: Values for TUOS charge calculation:
A41: Collgar | B41: WCGW | C41: 3.571 | G41: Use of System Price (c/kW/day) | I41: Follows GHD report for ERA 2028/29 Table 19 but using updated WP pricing
A42: Collie PWS | B42: WCPS | C42: 3.619 | F42: Badgingarra | G42: =VLOOKUP(F42,$A$35:$C$73,3,FALSE) -> 3.153
A43: Cunderdin Solar Farm | B43: WCSF | C43: 2.599 | F43: Pinjar GTS | G43: =VLOOKUP(F43,$A$35:$C$73,3,FALSE) -> 1.569
A44: Emu Downs | B44: WEMD | C44: 3.153 | F44: Newgen Neerabup | G44: =VLOOKUP(F44,$A$35:$C$73,3,FALSE) -> 1.933
A45: Geraldton | B45: WGTN | C45: 0.529 | F45: Yandin Wind Farm | G45: =VLOOKUP(F45,$A$35:$C$73,3,FALSE) -> 1.933
A46: Greenough Solar Farm | B46: TMSG | C46: 0.674 | F46: Average | G46: =AVERAGE(G42:G45) -> 2.147
A47: Kemerton PWS | B47: WKEM | C47: 2.515
A48: Kwinana Alcoa | B48: WAKW | C48: 1.946
A49: Kwinana BESS | B49: WKWB | C49: 1.887
A50: Kwinana Donaldson Road | B50: WKND | C50: 1.479
A51: Kwinana PWS | B51: WKPS | C51: 1.887
A52: Kwinana Waste to Energy | B52: WKWW | C52: 1.479
A53: Landwehr (Alinta) | B53: WLWT | C53: 2.347
A54: Mason Road | B54: WNSF | C54: 1.479
A55: Merredin Power Station | B55: TMDP | C55: 2.599
A56: Merredin Solar Farm | B56: WMSF | C56: 2.599
A57: Muja PWS | B57: WMPS | C57: 3.798
A58: Mumbida Wind Farm | B58: TMMB | C58: 3.2
... A73: Yandin Wind Farm | B73: WYDW | C73: 1.933
A75: Control System Service Price (Generators) | B75: cents/kW/day
A76: Control system service price (Generators) | B76: 0.305
A78: Metering price | B78: cents/meter/day
A79: TRT1, TRT2 and TRT3 | B79: 1211.979

Sheet Gas
A2: Parameters
A4: Cost ref date: | C4: 45473
A5: ="Esc "&YEAR(GasConn_CostRefDate)&" to "&YEAR(Date_Current) -> Esc 2024 to 2026 | C5: =VLOOKUP(Date_Current,CPI_Historic_table,2,TRUE)/VLOOKUP(GasConn_CostRefDate,CPI_Historic_table,2,TRUE) -> 1.0548698
A7: Compressors | C7: 4.7 | D7: $M/MW | E7: GHD for AEMO Jun24
C8: =C7*C5 -> 4.9578882 | D8: ="$"&YEAR(Date_Current) -> $2026
A11: Pipe | C11: 100000 | D11: $/in/km | E11: GHD for AEMO Jun24
C12: =C11*C5 -> 105486.98 | D12: ="$"&YEAR(Date_Current) -> $2026
A15: Land | C15: =LandCost_DollarsPerHa/1000000 -> 0.53625 | D15: $M/Ha | E15: Compressor station land. Pipeline easement cost not calculated. Gas receival station included in powerplant land
B17: Area: | C17: 5 | D17: Ha | E17: For gas compressor station aat top of lateral
A19: Pipeline distance | C19: =VLOOKUP(SiteLocation,PipelineDistanceTable,2,FALSE) -> 15.875 | D19: km
A21: Fat lateral case (for gas only configs)
A22: Storage hours | C22: 14 | D22: hours | G22: Storage is the length of a 36 inch pipe needed to contain the required fuel for a run, between the two pressure ranges
A23: Recharge hours | C23: 24 | D23: hours
A24: Allowance for facilities | C24: 2 | D24: $M | G24: A nominal allowance
A25: Min lateral pressure higher than engine/GT pressure | C25: 5 | D25: Bar
K37: =COLUMN()-COLUMN(A40)+1 -> 11 | T37: =COLUMN()-COLUMN(A40)+1 -> 20
A38: Configuration | K38: Compressor | N38: Lateral | P38: Cost, $M
B39: Net MW | C39: LHV HR | D39: HHV HR | E39: GJ/h | F39: kg/s | G39: ="GJ for "&NG_FatLateralStorageHours&" hours" -> GJ for 14 hours | I39: kg/s recharge | J39: Power, MW | K39: MDQ | L39: GT/Engine P ratio | M39: Pmin Mpa | N39: km | P39: Compressors | Q39: Pipe | R39: Facilities | S39: Comp land | T39: Total | U39: $/kW
A40: SCGT _GT13E2 _GasOnly | B40: =HLOOKUP($A40,ConfigParamsTable,ConfigRow_NetMW,FALSE) -> 341.18866 | C40: =HLOOKUP($A40,ConfigParamsTable,ConfigRow_NetHR,FALSE)*1000 -> 9771 | D40: =C40*NG_HHVonLHV -> 10816.497 | E40: =D40*B40/1000 -> 3690.4661 | F40: =E40/NG_GJperT/3.6 -> 20.50259 | G40: =E40*NG_FatLateralStorageHours -> 51666.526 | I40: =F40*NG_FatLateralStorageHours/NG_FatLateralRechargeHours -> 11.959844 | J40: =I40*$C$107/1000 -> 3.7255175 | K40: =I40*3.6*24*NG_GJperT -> 51666.526 | L40: =HLOOKUP($A40,ConfigParamsTable,ConfigRow_GasBara,FALSE) -> 26.6 | M40: =(L40+NG_LateralPRessureMargin_Bar)*101.325/1000 -> 3.20187 | N40: =MAX(GasConns_PipelineDistance,G40/VLOOKUP(M40,Gas!$B$127:$D$131,3,TRUE)) -> 20.92949 | P40: =J40*$C$8 -> 18.470699 | Q40: =N40*$C$12*36/1000000 -> 79.480393 | R40: =NG_FacilitiesCapex_DollarsMillions -> 2 | S40: =$C$17*$C$15 -> 2.68125 | T40: =SUM(P40:S40) -> 102.63234 | U40: =T40/B40*1000 -> 300.80819
A41: SCGT _SGT5-2000E _GasOnly | B41: =HLOOKUP($A41,ConfigParamsTable,ConfigRow_NetMW,FALSE) -> 347.77304 | C41: =HLOOKUP($A41,ConfigParamsTable,ConfigRow_NetHR,FALSE)*1000 -> 10057 | D41: =C41*NG_HHVonLHV -> 11133.099 | E41: =D41*B41/1000 -> 3871.7917 | F41: =E41/NG_GJperT/3.6 -> 21.509954 | G41: =E41*NG_FatLateralStorageHours -> 54205.084 | I41: =F41*NG_FatLateralStorageHours/NG_FatLateralRechargeHours -> 12.547473 | J41: =I41*$C$107/1000 -> 3.9085653 | K41: =I41*3.6*24*NG_GJperT -> 54205.084 | L41: =HLOOKUP($A41,ConfigParamsTable,ConfigRow_GasBara,FALSE) -> 20.75 | M41: =(L41+NG_LateralPRessureMargin_Bar)*101.325/1000 -> 2.6091187 | N41: =MAX(GasConns_PipelineDistance,G41/VLOOKUP(M41,Gas!$B$127:$D$131,3,TRUE)) -> 18.833611 | P41: =J41*$C$8 -> 19.37823 | Q41: =N41*$C$12*36/1000000 -> 71.521229 | R41: =NG_FacilitiesCapex_DollarsMillions -> 2 | S41: =$C$17*$C$15 -> 2.68125 | T41: =SUM(P41:S41) -> 95.580709 | U41: =T41/B41*1000 -> 274.83645
A42: SCGT _1x9FA _GasOnly | B42: =HLOOKUP($A42,ConfigParamsTable,ConfigRow_NetMW,FALSE) -> 258.3028 | C42: =HLOOKUP($A42,ConfigParamsTable,ConfigRow_NetHR,FALSE)*1000 -> 9608 | D42: =C42*NG_HHVonLHV -> 10636.056 | E42: =D42*B42/1000 -> 2747.323 | F42: =E42/NG_GJperT/3.6 -> 15.262906 | G42: =E42*NG_FatLateralStorageHours -> 38462.522 | I42: =F42*NG_FatLateralStorageHours/NG_FatLateralRechargeHours -> 8.9033616 | J42: =I42*$C$107/1000 -> 2.7734166 | K42: =I42*3.6*24*NG_GJperT -> 38462.522 | L42: =HLOOKUP($A42,ConfigParamsTable,ConfigRow_GasBara,FALSE) -> 28.37 | M42: =(L42+NG_LateralPRessureMargin_Bar)*101.325/1000 -> 3.3812153 | N42: =MAX(GasConns_PipelineDistance,G42/VLOOKUP(M42,Gas!$B$127:$D$131,3,TRUE)) -> 15.875 | P42: =J42*$C$8 -> 13.750289 | Q42: =N42*$C$12*36/1000000 -> 60.285811 | R42: =NG_FacilitiesCapex_DollarsMillions -> 2 | S42: =$C$17*$C$15 -> 2.68125 | T42: =SUM(P42:S42) -> 78.71735 | U42: =T42/B42*1000 -> 304.74835
A43: SCGT _LM2500 _GasOnly | B43: =HLOOKUP($A43,ConfigParamsTable,ConfigRow_NetMW,FALSE) -> 380.22583 | C43: =HLOOKUP($A43,ConfigParamsTable,ConfigRow_NetHR,FALSE)*1000 -> 9392 | D43: =C43*NG_HHVonLHV -> 10396.944 | E43: =D43*B43/1000 -> 3953.1867 | F43: =E43/NG_GJperT/3.6 -> 21.962148 | G43: =E43*NG_FatLateralStorageHours -> 55344.613 | I43: =F43*NG_FatLateralStorageHours/NG_FatLateralRechargeHours -> 12.811253 | J43: =I43*$C$107/1000 -> 3.9907333 | K43: =I43*3.6*24*NG_GJperT -> 55344.613 | L43: =HLOOKUP($A43,ConfigParamsTable,ConfigRow_GasBara,FALSE) -> 37.61 | M43: =(L43+NG_LateralPRessureMargin_Bar)*101.325/1000 -> 4.3174582 | N43: =MAX(GasConns_PipelineDistance,G43/VLOOKUP(M43,Gas!$B$127:$D$131,3,TRUE)) -> 24.672353 | P43: =J43*$C$8 -> 19.78561 | Q43: =N43*$C$12*36/1000000 -> 93.694036 | R43: =NG_FacilitiesCapex_DollarsMillions -> 2 | S43: =$C$17*$C$15 -> 2.68125 | T43: =SUM(P43:S43) -> 118.1609 | U43: =T43/B43*1000 -> 310.76504
A44: SCGT _LM6000 _GasOnly | B44: =HLOOKUP($A44,ConfigParamsTable,ConfigRow_NetMW,FALSE) -> 264.0863 | C44: =HLOOKUP($A44,ConfigParamsTable,ConfigRow_NetHR,FALSE)*1000 -> 8980 | D44: =C44*NG_HHVonLHV -> 9940.86 | E44: =D44*B44/1000 -> 2625.245 | F44: =E44/NG_GJperT/3.6 -> 14.584694 | G44: =E44*NG_FatLateralStorageHours -> 36753.43 | I44: =F44*NG_FatLateralStorageHours/NG_FatLateralRechargeHours -> 8.5077383 | J44: =I44*$C$107/1000 -> 2.6501791 | K44: =I44*3.6*24*NG_GJperT -> 36753.43 | L44: =HLOOKUP($A44,ConfigParamsTable,ConfigRow_GasBara,FALSE) -> 50.91 | M44: =(L44+NG_LateralPRessureMargin_Bar)*101.325/1000 -> 5.6650808 | N44: =MAX(GasConns_PipelineDistance,G44/VLOOKUP(M44,Gas!$B$127:$D$131,3,TRUE)) -> 18.272147 | P44: =J44*$C$8 -> 13.139292 | Q44: =N44*$C$12*36/1000000 -> 69.389053 | R44: =NG_FacilitiesCapex_DollarsMillions -> 2 | S44: =$C$17*$C$15 -> 2.68125 | T44: =SUM(P44:S44) -> 87.209595 | U44: =T44/B44*1000 -> 330.23142
A45: SCGT _LMS100 _GasOnly | B45: =HLOOKUP($A45,ConfigParamsTable,ConfigRow_NetMW,FALSE) -> 356.22232 | C45: =HLOOKUP($A45,ConfigParamsTable,ConfigRow_NetHR,FALSE)*1000 -> 8720 | D45: =C45*NG_HHVonLHV -> 9653.04 | E45: =D45*B45/1000 -> 3438.6283 | F45: =E45/NG_GJperT/3.6 -> 19.103491 | G45: =E45*NG_FatLateralStorageHours -> 48140.796 | I45: =F45*NG_FatLateralStorageHours/NG_FatLateralRechargeHours -> 11.143703 | J45: =I45*$C$107/1000 -> 3.4712878 | K45: =I45*3.6*24*NG_GJperT -> 48140.796 | L45: =HLOOKUP($A45,ConfigParamsTable,ConfigRow_GasBara,FALSE) -> 60.21 | M45: =(L45+NG_LateralPRessureMargin_Bar)*101.325/1000 -> 6.6074033 | N45: =MAX(GasConns_PipelineDistance,G45/VLOOKUP(M45,Gas!$B$127:$D$131,3,TRUE)) -> 30.302004 | P45: =J45*$C$8 -> 17.210257 | Q45: =N45*$C$12*36/1000000 -> 115.07281 | R45: =NG_FacilitiesCapex_DollarsMillions -> 2 | S45: =$C$17*$C$15 -> 2.68125 | T45: =SUM(P45:S45) -> 136.96432 | U45: =T45/B45*1000 -> 384.49111
A46: CCGT _9FA _GasOnly | B46: =HLOOKUP($A46,ConfigParamsTable,ConfigRow_NetMW,FALSE) -> 389.58109 | C46: =HLOOKUP($A46,ConfigParamsTable,ConfigRow_NetHR,FALSE)*1000 -> 6318 | D46: =C46*NG_HHVonLHV -> 6994.026 | E46: =D46*B46/1000 -> 2724.7402 | F46: =E46/NG_GJperT/3.6 -> 15.137446 | G46: =E46*NG_FatLateralStorageHours -> 38146.363 | I46: =F46*NG_FatLateralStorageHours/NG_FatLateralRechargeHours -> 8.8301767 | J46: =I46*$C$107/1000 -> 2.7506193 | K46: =I46*3.6*24*NG_GJperT -> 38146.363 | L46: =HLOOKUP($A46,ConfigParamsTable,ConfigRow_GasBara,FALSE) -> 28.37 | M46: =(L46+NG_LateralPRessureMargin_Bar)*101.325/1000 -> 3.3812153 | N46: =MAX(GasConns_PipelineDistance,G46/VLOOKUP(M46,Gas!$B$127:$D$131,3,TRUE)) -> 15.875 | P46: =J46*$C$8 -> 13.637263 | Q46: =N46*$C$12*36/1000000 -> 60.285811 | R46: =NG_FacilitiesCapex_DollarsMillions -> 2 | S46: =$C$17*$C$15 -> 2.68125 | T46: =SUM(P46:S46) -> 78.604324 | U46: =T46/B46*1000 -> 201.76627
A47: CCGT _GT13E2 _GasOnly | B47: =HLOOKUP($A47,ConfigParamsTable,ConfigRow_NetMW,FALSE) -> 489.27209 | C47: =HLOOKUP($A47,ConfigParamsTable,ConfigRow_NetHR,FALSE)*1000 -> 6818 | D47: =C47*NG_HHVonLHV -> 7547.526 | E47: =D47*B47/1000 -> 3692.7939 | F47: =E47/NG_GJperT/3.6 -> 20.515521 | G47: =E47*NG_FatLateralStorageHours -> 51699.114 | I47: =F47*NG_FatLateralStorageHours/NG_FatLateralRechargeHours -> 11.967387 | J47: =I47*$C$107/1000 -> 3.7278673 | K47: =I47*3.6*24*NG_GJperT -> 51699.114 | L47: =HLOOKUP($A47,ConfigParamsTable,ConfigRow_GasBara,FALSE) -> 26.6 | M47: =(L47+NG_LateralPRessureMargin_Bar)*101.325/1000 -> 3.20187 | N47: =MAX(GasConns_PipelineDistance,G47/VLOOKUP(M47,Gas!$B$127:$D$131,3,TRUE)) -> 20.942691 | P47: =J47*$C$8 -> 18.482349 | Q47: =N47*$C$12*36/1000000 -> 79.530525 | R47: =NG_FacilitiesCapex_DollarsMillions -> 2 | S47: =$C$17*$C$15 -> 2.68125 | T47: =SUM(P47:S47) -> 102.69412 | U47: =T47/B47*1000 -> 209.89164
A48: RECIP _Jenbacher _GasOnly | B48: =HLOOKUP($A48,ConfigParamsTable,ConfigRow_NetMW,FALSE) -> 245.76321 | C48: =HLOOKUP($A48,ConfigParamsTable,ConfigRow_NetHR,FALSE)*1000 -> 7836 | D48: =C48*NG_HHVonLHV -> 8674.452 | E48: =D48*B48/1000 -> 2131.8612 | F48: =E48/NG_GJperT/3.6 -> 11.843673 | G48: =E48*NG_FatLateralStorageHours -> 29846.057 | I48: =F48*NG_FatLateralStorageHours/NG_FatLateralRechargeHours -> 6.9088095 | J48: =I48*$C$107/1000 -> 2.1521092 | K48: =I48*3.6*24*NG_GJperT -> 29846.057 | L48: =HLOOKUP($A48,ConfigParamsTable,ConfigRow_GasBara,FALSE) -> 11.35 | M48: =(L48+NG_LateralPRessureMargin_Bar)*101.325/1000 -> 1.6566638 | N48: =MAX(GasConns_PipelineDistance,G48/VLOOKUP(M48,Gas!$B$127:$D$131,3,TRUE)) -> 15.875 | P48: =J48*$C$8 -> 10.669917 | Q48: =N48*$C$12*36/1000000 -> 60.285811 | R48: =NG_FacilitiesCapex_DollarsMillions -> 2 | S48: =$C$17*$C$15 -> 2.68125 | T48: =SUM(P48:S48) -> 75.636978 | U48: =T48/B48*1000 -> 307.76362
A49: RECIP _Wartsila _GasOnly | B49: =HLOOKUP($A49,ConfigParamsTable,ConfigRow_NetMW,FALSE) -> 217.40799 | C49: =HLOOKUP($A49,ConfigParamsTable,ConfigRow_NetHR,FALSE)*1000 -> 7868 | D49: =C49*NG_HHVonLHV -> 8709.876 | E49: =D49*B49/1000 -> 1893.5966 | F49: =E49/NG_GJperT/3.6 -> 10.519981 | G49: =E49*NG_FatLateralStorageHours -> 26510.353 | I49: =F49*NG_FatLateralStorageHours/NG_FatLateralRechargeHours -> 6.1366557 | J49: =I49*$C$107/1000 -> 1.9115817 | K49: =I49*3.6*24*NG_GJperT -> 26510.353 | L49: =HLOOKUP($A49,ConfigParamsTable,ConfigRow_GasBara,FALSE) -> 6.993 | M49: =(L49+NG_LateralPRessureMargin_Bar)*101.325/1000 -> 1.2151907 | N49: =MAX(GasConns_PipelineDistance,G49/VLOOKUP(M49,Gas!$B$127:$D$131,3,TRUE)) -> 15.875 | P49: =J49*$C$8 -> 9.4774082 | Q49: =N49*$C$12*36/1000000 -> 60.285811 | R49: =NG_FacilitiesCapex_DollarsMillions -> 2 | S49: =$C$17*$C$15 -> 2.68125 | T49: =SUM(P49:S49) -> 74.444469 | U49: =T49/B49*1000 -> 342.41828
A51: Skinny lateral case (for DF configs)
A52: Config as above except no compressor station needed. Length is the pipeline distance and diameter simply based on typical flow velocity
A53: Flow velocity | B53: 7 | C53: m/s
A54: Reference pressure (typ) | B54: 5 | C54: MPa | D54: DBNGP is MAOP 8.48 Mpag
P55: Cost, $M
A56: Configuration | B56: Net MW | C56: LHV HR | D56: HHV HR | E56: GJ/h | F56: kg/s | G56: m3/s | H56: Dia theor, mm | I56: Dia inches | K56: MDQ | N56: km | P56: Compressors | Q56: Pipe | R56: Facilities | S56: Comp land | T56: Total | U56: $/kW
A57: SCGT _GT13E2 _DF | B57: =HLOOKUP($A57,ConfigParamsTable,ConfigRow_NetMW,FALSE) -> 341.18866 | C57: =HLOOKUP($A57,ConfigParamsTable,ConfigRow_NetHR,FALSE)*1000 -> 9771 | D57: =C57*NG_HHVonLHV -> 10816.497 | E57: =D57*B57/1000 -> 3690.4661 | F57: =E57/NG_GJperT/3.6 -> 20.50259 | G57: =F57/VLOOKUP(GasConn_SkinnyLateral_RefPressureMPA,$A$113:$C$118,3,FALSE) -> 0.578124 | H57: =SQRT(4*G57/3.14159/GasConn_SkinnyLateralVelocity)*1000 -> 324.27743 | I57: =_xlfn.XLOOKUP(H57,$D$136:$D$140,$E$136:$E$140,,1) -> 16 | K57: 0 | N57: =GasConns_PipelineDistance -> 15.875 | P57: 0 | Q57: =N57*$C$12*I57/1000000 -> 26.793694 | R57: =NG_FacilitiesCapex_DollarsMillions -> 2 | S57: 0 | T57: =SUM(P57:S57) -> 28.793694 | U57: =T57/B57*1000 -> 84.392294
A58: SCGT _SGT5-2000E _DF | B58: =HLOOKUP($A58,ConfigParamsTable,ConfigRow_NetMW,FALSE) -> 347.77304 | C58: =HLOOKUP($A58,ConfigParamsTable,ConfigRow_NetHR,FALSE)*1000 -> 10057 | D58: =C58*NG_HHVonLHV -> 11133.099 | E58: =D58*B58/1000 -> 3871.7917 | F58: =E58/NG_GJperT/3.6 -> 21.509954 | G58: =F58/VLOOKUP(GasConn_SkinnyLateral_RefPressureMPA,$A$113:$C$118,3,FALSE) -> 0.60652926 | H58: =SQRT(4*G58/3.14159/GasConn_SkinnyLateralVelocity)*1000 -> 332.14835 | I58: =_xlfn.XLOOKUP(H58,$D$136:$D$140,$E$136:$E$140,,1) -> 16 | K58: 0 | N58: =GasConns_PipelineDistance -> 15.875 | P58: 0 | Q58: =N58*$C$12*I58/1000000 -> 26.793694 | R58: =NG_FacilitiesCapex_DollarsMillions -> 2 | S58: 0 | T58: =SUM(P58:S58) -> 28.793694 | U58: =T58/B58*1000 -> 82.794496
A59: SCGT _1x9FA _DF | B59: =HLOOKUP($A59,ConfigParamsTable,ConfigRow_NetMW,FALSE) -> 258.24078 | C59: =HLOOKUP($A59,ConfigParamsTable,ConfigRow_NetHR,FALSE)*1000 -> 9610 | D59: =C59*NG_HHVonLHV -> 10638.27 | E59: =D59*B59/1000 -> 2747.2352 | F59: =E59/NG_GJperT/3.6 -> 15.262418 | G59: =F59/VLOOKUP(GasConn_SkinnyLateral_RefPressureMPA,$A$113:$C$118,3,FALSE) -> 0.43036368 | H59: =SQRT(4*G59/3.14159/GasConn_SkinnyLateralVelocity)*1000 -> 279.78474 | I59: =_xlfn.XLOOKUP(H59,$D$136:$D$140,$E$136:$E$140,,1) -> 12 | K59: 0 | N59: =GasConns_PipelineDistance -> 15.875 | P59: 0 | Q59: =N59*$C$12*I59/1000000 -> 20.09527 | R59: =NG_FacilitiesCapex_DollarsMillions -> 2 | S59: 0 | T59: =SUM(P59:S59) -> 22.09527 | U59: =T59/B59*1000 -> 85.560731
A60: SCGT _LM2500 _DF | B60: =HLOOKUP($A60,ConfigParamsTable,ConfigRow_NetMW,FALSE) -> 380.22583 | C60: =HLOOKUP($A60,ConfigParamsTable,ConfigRow_NetHR,FALSE)*1000 -> 9392 | D60: =C60*NG_HHVonLHV -> 10396.944 | E60: =D60*B60/1000 -> 3953.1867 | F60: =E60/NG_GJperT/3.6 -> 21.962148 | G60: =F60/VLOOKUP(GasConn_SkinnyLateral_RefPressureMPA,$A$113:$C$118,3,FALSE) -> 0.61928006 | H60: =SQRT(4*G60/3.14159/GasConn_SkinnyLateralVelocity)*1000 -> 335.6215 | I60: =_xlfn.XLOOKUP(H60,$D$136:$D$140,$E$136:$E$140,,1) -> 16 | K60: 0 | N60: =GasConns_PipelineDistance -> 15.875 | P60: 0 | Q60: =N60*$C$12*I60/1000000 -> 26.793694 | R60: =NG_FacilitiesCapex_DollarsMillions -> 2 | S60: 0 | T60: =SUM(P60:S60) -> 28.793694 | U60: =T60/B60*1000 -> 75.727874
A61: SCGT _LM6000 _DF | B61: =HLOOKUP($A61,ConfigParamsTable,ConfigRow_NetMW,FALSE) -> 264.0813 | C61: =HLOOKUP($A61,ConfigParamsTable,ConfigRow_NetHR,FALSE)*1000 -> 8980 | D61: =C61*NG_HHVonLHV -> 9940.86 | E61: =D61*B61/1000 -> 2625.1952 | F61: =E61/NG_GJperT/3.6 -> 14.584418 | G61: =F61/VLOOKUP(GasConn_SkinnyLateral_RefPressureMPA,$A$113:$C$118,3,FALSE) -> 0.41124571 | H61: =SQRT(4*G61/3.14159/GasConn_SkinnyLateralVelocity)*1000 -> 273.49974 | I61: =_xlfn.XLOOKUP(H61,$D$136:$D$140,$E$136:$E$140,,1) -> 12 | K61: 0 | N61: =GasConns_PipelineDistance -> 15.875 | P61: 0 | Q61: =N61*$C$12*I61/1000000 -> 20.09527 | R61: =NG_FacilitiesCapex_DollarsMillions -> 2 | S61: 0 | T61: =SUM(P61:S61) -> 22.09527 | U61: =T61/B61*1000 -> 83.66844
A62: SCGT _LMS100 _DF | B62: =HLOOKUP($A62,ConfigParamsTable,ConfigRow_NetMW,FALSE) -> 356.21732 | C62: =HLOOKUP($A62,ConfigParamsTable,ConfigRow_NetHR,FALSE)*1000 -> 8720 | D62: =C62*NG_HHVonLHV -> 9653.04 | E62: =D62*B62/1000 -> 3438.58 | F62: =E62/NG_GJperT/3.6 -> 19.103222 | G62: =F62/VLOOKUP(GasConn_SkinnyLateral_RefPressureMPA,$A$113:$C$118,3,FALSE) -> 0.53866519 | H62: =SQRT(4*G62/3.14159/GasConn_SkinnyLateralVelocity)*1000 -> 313.01538 | I62: =_xlfn.XLOOKUP(H62,$D$136:$D$140,$E$136:$E$140,,1) -> 14 | K62: 0 | N62: =GasConns_PipelineDistance -> 15.875 | P62: 0 | Q62: =N62*$C$12*I62/1000000 -> 23.444482 | R62: =NG_FacilitiesCapex_DollarsMillions -> 2 | S62: 0 | T62: =SUM(P62:S62) -> 25.444482 | U62: =T62/B62*1000 -> 71.42966
...

Sheet Distillate
A1: Data for LOCATION: PERTH
A2: Time is native time for database (UTC+0)
A3: Terminal Gate Price for Automotive Distillate in Australia, AUD cents per litre including GST
A4: Citation: Shell Australia and Viva Energy website, ad-hoc times
B5: PRICE c/L | D5: Excise | F5: Less GST and excise
A6: 45664 | B6: 171.69 | D6: 50 | F6: =B6/1.1-D6 -> 106.08182 | I6: Average | J6: =AVERAGE(F6:F28) -> 99.304347 | K6: c/L
A7: 45670 | B7: 172.49001 | D7: 50 | F7: =B7/1.1-D7 -> 106.8091 | I7: Add allowance for transport etc | J7: 20 | K7: c/L | L7: Transport to PS plus margin
A8: 45683 | B8: 179.14 | D8: 50 | F8: =B8/1.1-D8 -> 112.85454 | I8: Delivered cost | J8: =J6+J7 -> 119.30435 | K8: c/L
A9: 45696 | B9: 172.3 | D9: 50.8 | F9: =B9/1.1-D9 -> 105.83637 | I9: Density | J9: 0.85 | K9: kg/L
A10: 45704 | B10: 170.95 | D10: 50.8 | F10: =B10/1.1-D10 -> 104.60909 | I10: HHV | J10: 45.6 | K10: GJ/t
A11: 45718 | B11: 169.05 | D11: 50.8 | F11: =B11/1.1-D11 -> 102.88182 | I11: Cost | J11: =J8/100*1000/J9/J10 -> 30.780275 | K11: $/GJ
A12: 45723 | B12: 166.86 | D12: 50.8 | F12: =B12/1.1-D12 -> 100.89091
A13: 45738 | B13: 163.06 | D13: 50.8 | F13: =B13/1.1-D13 -> 97.436361
A14: 45765 | B14: 157.38 | D14: 50.8 | F14: =B14/1.1-D14 -> 92.272732
A15: 45775 | B15: 158.14999 | D15: 50.8 | F15: =B15/1.1-D15 -> 92.972722
A16: 45801 | B16: 156.64999 | D16: 50.8 | F16: =B16/1.1-D16 -> 91.609085
A17: 45814 | B17: 155.78999 | D17: 50.8 | F17: =B17/1.1-D17 -> 90.827267
A18: 45825 | B18: 159.42999 | D18: 50.8 | F18: =B18/1.1-D18 -> 94.136357
A19: 45843 | B19: 162.98 | D19: 50.8 | F19: =B19/1.1-D19 -> 97.363632
A20: 45873 | B20: 169.22 | D20: 51.6 | F20: =B20/1.1-D20 -> 102.23636
A21: 45891 | B21: 161.38 | D21: 51.6 | F21: =B21/1.1-D21 -> 95.109095
A22: 45902 | B22: 163.42999 | D22: 51.6 | F22: =B22/1.1-D22 -> 96.972721
A23: 45919 | B23: 164.33 | D23: 51.6 | F23: =B23/1.1-D23 -> 97.790911
... A28: 46015 | B28: 155.78999 | D28: 51.6 | F28: =B28/1.1-D28 -> 90.027267

Sheet CPI_FX
A2: Sources:
B3: Historical CPI | C3: RBA | D3: https://www.rba.gov.au/statistics/tables/xls/g01hist.xlsx?v=2026-07-22-16-00-57
B4: Projected CPI
B5: Historical fx | C5: RBA | D5: https://www.rba.gov.au/statistics/tables/xls-hist/2023-current.xls?v=2026-07-02-11-27-20
A13: F11.1 EXCHANGE RATES | F13: G1 CONSUMER PRICE INFLATION | U13: Index
A14: Title | B14: A$1=USD | F14: Title | G14: Consumer price index | S14: 46022 | T14: 0.036 | U14: =G438 -> 100.32
A15: Description | B15: AUD/USD Exchange Rate; see notes for further detail. | F15: Description | G15: Consumer price index; All groups | S15: 46203 | T15: 0.048 | U15: =U14*(1+T15/2) -> 102.72768
A16: Frequency | B16: Daily | F16: Frequency | G16: Quarterly | S16: 46387 | T16: 0.04 | U16: =U15*(1+T16/2) -> 104.78223
A17: Type | B17: Indicative | F17: Type | G17: Original | S17: 46568 | T17: 0.024 | U17: =U16*(1+T17/2) -> 106.03962
A18: Units | B18: USD | F18: Units | G18: Index, September 2025 month = 100 | S18: 46752 | T18: 0.024 | U18: =U17*(1+T18/2) -> 107.3121
S19: 46934 | T19: 0.025 | U19: =U18*(1+T19/2) -> 108.6535
S20: 47118 | T20: 0.025 | U20: =U19*(1+T20/2) -> 110.01167 | V20: Assume mid range of target band
A21: Source | B21: WM/Reuters | F21: Source | G21: ABS / RBA | S21: 47299 | T21: 0.025 | U21: =U20*(1+T21/2) -> 111.38681 | V21: Assume mid range of target band
A22: Publication date | B22: 46224 | F22: Publication date | G22: 30-Apr-2026 | S22: 47483 | T22: 0.025 | U22: =U21*(1+T22/2) -> 112.77915 | V22: Assume mid range of target band
A23: Series ID | B23: FXRUSD | F23: Series ID | G23: GCPIAG
A24: 44929 | B24: 0.6828 | F24: 8217 | G24: 1.93
A25: 44930 | B25: 0.6809 | F25: 8309 | G25: 1.93
A26: 44931 | B26: 0.6815 | F26: 8401 | G26: 1.91
A27: 44932 | B27: 0.6769 | F27: 8491 | G27: 1.92
A28: 44935 | B28: 0.6929 | F28: 8582 | G28: 1.98
A29: 44936 | B29: 0.6904 | F29: 8674 | G29: 2
A30: 44937 | B30: 0.6911 | F30: 8766 | G30: 2
A31: 44938 | B31: 0.6923 | F31: 8857 | G31: 1.94
A32: 44939 | B32: 0.6955 | F32: 8948 | G32: 1.94
A33: 44942 | B33: 0.6988 | F33: 9040 | G33: 1.93
A34: 44943 | B34: 0.6973 | F34: 9132 | G34: 1.93
A35: 44944 | B35: 0.6994 | F35: 9222 | G35: 1.96
... A439: 45532 | B439: 0.6789 | F439: 46112 | G439: 101.7
A440: 45533 | B440: 0.6807
A441: 45534 | B441: 0.6806
A442: 45537 | B442: 0.6766
A443: 45538 | B443: 0.6741
A444: 45539 | B444: 0.6704
A445: 45540 | B445: 0.6723
A446: 45541 | B446: 0.6724
A447: 45544 | B447: 0.6668
A448: 45545 | B448: 0.6668
A449: 45546 | B449: 0.6659
A450: 45547 | B450: 0.6693
A451: 45548 | B451: 0.6722
...

Sheet IASR
A1: 2026 ISP Inputs and Assumptions Workbook
A2: 46198
A3: https://www.aemo.com.au/-/media/files/major-publications/isp/2026/supporting-materials/2026-isp-inputs-and-assumptions-workbook.xlsm?rev=de6f5853cd5e4d5cbb06bc90bdf0e378&sc_lang=en
A5: Filtered to only include relevant technologies, and for 'Step change'
A6: Capital cost projections ($/kW, real 2025 dollars)
A7: Cost to construct new generation, excluding connection costs where these are provided in the Connection cost tab.
A8: These capital cost trajectories are developed by CSIRO's GALLM (see GenCost 2025-26 Consultation draft for more details) based on the technology specific capital cost estimates provided by GHD (2025 Energy Technology Cost and Technical Parameter Review).
A9: To calculate the capital costs of these technologies elsewhere in Australia, multiply these capacital cost with the appropriate locational cost factor given in the Locational Cost Factors worksheet.
A10: The build costs do not include costs associated with expanded transmission access or additional costs incurred when development within a REZ exceeds technology limits. Details on these additional costs are found in the Build limits tab.
A11: The financial years in table are mapped to the preceding calendar year in the GenCost 2025-26 Consultation Draft.
A13: Build costs | E13: 2 | F13: 3 | G13: 4 | H13: 5 | I13: 6 | J13: 7 | K13: 8
A14: Technology1 | B14: GenCost Scenario | C14: IASR Scenario | D14: Source | E14: 2024-25 | F14: 2025-26 | G14: 2026-27 | H14: 2027-28 | I14: 2028-29 | J14: 2029-30 | K14: 2030-31 | M14: 2026-27 cost excluding land and connections | N14: Calculated. Applied since Thermoflow costs do not include these elements and they are applied later
A15: OCGT (small GT) | B15: GenCost Global NZE post 2050 | C15: Step Change | D15: CSIRO GenCost 2025-26 Consultation Draft | E15: Not Applicable | F15: 2914 | G15: 2777 | H15: 2645 | I15: 2523 | J15: 2412 | K15: 2309 | M15: =G15*(B78+E78)/(B78+C78+D78+E78) -> 2429.7686
A16: OCGT (large GT) | B16: GenCost Global NZE post 2050 | C16: Step Change | D16: CSIRO GenCost 2025-26 Consultation Draft | E16: Not Applicable | F16: 1764 | G16: 1681 | H16: 1602 | I16: 1528 | J16: 1460 | K16: 1398 | M16: =G16*(B79+E79)/(B79+C79+D79+E79) -> 1438.6076
A17: Gas recip | B17: GenCost Global NZE post 2050 | F17: 2022 | G17: 2022 | H17: 2012 | I17: 2012 | J17: 2015 | K17: 2019 | M17: =G17*(B81+E81)/(B81+C81+D81+E81) -> 1809.7497 | N17: Not in IASR. Taken from CSIRO GenCost 2025_26
A18: CCGT | B18: GenCost Global NZE post 2050 | C18: Step Change | D18: CSIRO GenCost 2025-26 Consultation Draft | E18: Not Applicable | F18: 2497 | G18: 2433 | H18: 2370 | I18: 2308 | J18: 2250 | K18: 2194 | M18: =G18*(B81+E81)/(B81+C81+D81+E81) -> 2177.6068
A19: Large scale Solar PV | B19: GenCost Global NZE post 2050 | C19: Step Change | D19: CSIRO GenCost 2025-26 Consultation Draft | E19: Not Applicable | F19: 1621 | G19: 1381 | H19: 1187 | I19: 1066 | J19: 989 | K19: 930 | M19: =G19*(B82+E82)/(B82+C82+D82+E82) -> 1302.8302
A20: Battery storage (4hrs storage) | B20: GenCost Global NZE post 2050 | C20: Step Change | D20: CSIRO GenCost 2025-26 Consultation Draft | E20: Not Applicable | F20: 1540 | G20: 1424 | H20: 1332 | I20: 1264 | J20: 1208 | K20: 1180 | M20: =G20*(B83+E83)/(B83+C83+D83+E83) -> 1381.378
A21: Battery storage (6hrs storage) | F21: =(6-4)/(8-4)*(F23-F20)+F20 -> 2002 | G21: =(6-4)/(8-4)*(G23-G20)+G20 -> 1852 | H21: =(6-4)/(8-4)*(H23-H20)+H20 -> 1738 | I21: =(6-4)/(8-4)*(I23-I20)+I20 -> 1648 | J21: =(6-4)/(8-4)*(J23-J20)+J20 -> 1576 | K21: =(6-4)/(8-4)*(K23-K20)+K20 -> 1538 | M21: =G21*(B84+E84)/(B84+C84+D84+E84) -> 1807.1356 | N21: Interpolated
A22: Battery storage (7hrs storage) | F22: =(7-4)/(8-4)*(F23-F20)+F20 -> 2233 | G22: =(7-4)/(8-4)*(G23-G20)+G20 -> 2066 | H22: =(7-4)/(8-4)*(H23-H20)+H20 -> 1941 | I22: =(7-4)/(8-4)*(I23-I20)+I20 -> 1840 | J22: =(7-4)/(8-4)*(J23-J20)+J20 -> 1760 | K22: =(7-4)/(8-4)*(K23-K20)+K20 -> 1717 | M22: =G22*(B85+E85)/(B85+C85+D85+E85) -> 2021.8461 | N22: Interpolated
A23: Battery storage (8hrs storage) | B23: GenCost Global NZE post 2050 | C23: Step Change | D23: CSIRO GenCost 2025-26 Consultation Draft | E23: Not Applicable | F23: 2464 | G23: 2280 | H23: 2144 | I23: 2032 | J23: 1944 | K23: 1896 | M23: =G23*(B86+E86)/(B86+C86+D86+E86) -> 2237.7778
A24: Wind | B24: GenCost Global NZE post 2050 | C24: Step Change | D24: CSIRO GenCost 2025-26 Consultation Draft | E24: Not Applicable | F24: 3248 | G24: 3112 | H24: 2981 | I24: 2860 | J24: 2745 | K24: 2638 | M24: =G24*(B87+E87)/(B87+C87+D87+E87) -> 3036.0976
A25: 1. To reflect short-term cost pressures, BOTN (Cethana) has been adjusted using the same factor applied to Pumped Hydro (24hrs storage) in GenCost 2024-25 Final report.
A26: 2. The capital cost for Distributed Resources Solar and Distributed Resources Batteries, as provided in the Aurecon 2024 Energy Technology Cost and Technical Parameter Review, are assumed to have the same trajectory as that of their transmission-connected counterparts.
A27: 3. AEMO will add an additonal cost to the overnight capital cost of Alkaline Electrolysers as stated in this table to represent cost associated with pipelines.
A28: 4. Distributed Resources Solar and Distributed Resources Batteries are alternate names for mid-scale generation and storage.
A32: Fixed operating and maintenance cost (real 2025 dollars)
A33: Costs that are incurred regardless of energy generated.
A35: New entrant technologies
A36: Technology Type | B36: Base value ($/kW/year))
A38: OCGT (small GT) | B38: 17.685834
A39: OCGT (large GT) | B39: 14.323408
A40: Gas recip | B40: 29.4 | C40: Not in IASR. Taken from CSIRO GenCost 2025_26
A41: CCGT | B41: 15.303012
A42: Large scale Solar PV | B42: 12.2196
A43: Battery storage (4hrs storage) | B43: 21.58796
A44: Battery storage (6hrs storage) | B44: =(6-4)/(8-4)*(B46-B43)+B43 -> 29.785275 | C44: Interpolated
A45: Battery storage (7hrs storage) | B45: =(7-4)/(8-4)*(B46-B43)+B43 -> 33.883933 | C45: Interpolated
A46: Battery storage (8hrs storage) | B46: 37.98259
A47: Wind | B47: 28.5124
...

Sheet TFlow33
A1: GT PRO Classic 33.0
A2: Program revision date: July 17, 2026
A3: Note: Cost reference date is March 2025 for most configurations in current database
A5: PEACE: | G5: SCGT | H5: SCGT | I5: SCGT | J5: SCGT | K5: SCGT | L5: SCGT | M5: SCGT | N5: SCGT | O5: SCGT | P5: SCGT | Q5: SCGT | R5: SCGT | S5: CCGT | T5: CCGT | U5: CCGT | V5: CCGT | W5: RECIP | X5: RECIP | Y5: RECIP | Z5: RECIP
G6: GT13E2 | H6: GT13E2 | I6: SGT5-2000E | J6: SGT5-2000E | K6: 1x9FA | L6: 1x9FA | M6: LM2500 | N6: LM2500 | O6: LM6000 | P6: LM6000 | Q6: LMS100 | R6: LMS100 | S6: 9FA | T6: 9FA | U6: GT13E2 | V6: GT13E2 | W6: Jenbacher | X6: Jenbacher | Y6: Wartsila | Z6: Wartsila
G7: DF | H7: GasOnly | I7: DF | J7: GasOnly | K7: DF | L7: GasOnly | M7: GasOnly | N7: DF | O7: DF | P7: GasOnly | Q7: DF | R7: GasOnly | S7: DF | T7: GasOnly | U7: DF | V7: GasOnly | W7: DF | X7: GasOnly | Y7: DF | Z7: GasOnly
A8: Project Cost Summary | G8: Estimated Cost | H8: Estimated Cost | I8: Estimated Cost | J8: Estimated Cost | K8: Estimated Cost | L8: Estimated Cost | M8: Estimated Cost | N8: Estimated Cost | O8: Estimated Cost | P8: Estimated Cost | Q8: Estimated Cost | R8: Estimated Cost | S8: Estimated Cost | T8: Estimated Cost | U8: Estimated Cost | V8: Estimated Cost | W8: Estimated Cost | X8: Estimated Cost | Y8: Estimated Cost | Z8: Estimated Cost
