Workbook

Sheet Cover
B2: 2027 Future Energy System Outlook (FESO)
B4: Draft Inputs and Assumptions Workbook
B5: Confidential version
B7: Document Version: | C7: v2
B8: Last Updated: | C8: 18/09/2026
B9: Region: | C9: SWIS
B10: Modelling horizon: | C10: 2027-2050

Sheet Summary
B2: ASSUMPTIONS WORKBOOK SUMMARY
B3: This workbook contains all key assumptions and input data for the draft Future Energy System Outlook modelling studies. It is a compilation of data from a number of sources, listed below. All values in this workbook are 1 June 2026 real dollars except were explicitly noted otherwise. All dates refer to the start of the relevant Capacity Year unless otherwise stated. Year 1 = October 2026
B5: Workbook Structure
B7: Section | C7: Sheet | D7: Description | E7: Source
B8: Scenarios | C8: Scenarios | D8: A description of the scenarios including a high level summary of drivers | E8: EPWA
B9: Demand | C9: Demand summary | D9: An overview of demand scenarios and their components | E9: n/a
C10: Economic factors | D10: Economic and population growth forecasts | E10: WA Tomorrow // economic forecast
C11: Operational | D11: Peak, minimum and consumption forecasts | E11: Modelled output
C12: Underlying | D12: Peak, minimum and consumption forecasts | E12: Modelled output
C13: Large loads | D13: Existing and new large loads | E13: Working Group / industry input
C14: Large load decarbonisation | D14: Decarbonisation of existing industrial and commercial large consumers of fuel | E14: EPWA
C15: Rooftop PV | D15: Rooftop PV uptake | E15: Modelled output by Energeia
C16: BTM storage | D16: Behind the meter storage uptake | E16: Modelled output by Energeia
C17: Demand response | D17: Virtual power plants / controllable consumer energy resources and demand side programme (DSP) | E17: DSP: AEMO 2026 WEM ESOO
C18: EVs | D18: Electric Vehicle uptake | E18: Modelled output by Energeia
C19: Efficiency | D19: Energy efficiency forecasts | E19: Energia (confirm Luke)
B20: Technical parameters | C20: Existing and committed | D20: Existing, committed, future generator and storage parameters | E20: Working Group / industry input / TSP 2025
B21: Fuel | C21: Gas availability | D21: Increase in DBGNP capacity as a result of electrification | E21: EPWA
C22: Fuel prices | D22: Fuel prices for various technologies | E22: Rystad/Energy Quest / Appproach
B23: New entrant | C23: New entrant capex | D23: Capital costs for new entrant technologies modelled | E23: CSIRO GenCost 2025-2026 final
C24: New entrant parameters | D24: Parameters for new entrant technologies modelled | E24: AEMO 2026 ISP inputs and assumptions workbook
C25: Regional cost multiplier | D25: Cost of operating in more remote regions | E25: EPWA
C26: Build constraints | D26: Build limits per zone and technology, lead times (available from), capacity factors | E26: EPWA
C27: Connection costs | D27: Cost of connecting new entrant technologies by size bracket | E27: Western Power - tbc
B28: Network | C28: Network topology | D28: A description of the network zones used in the modelling | E28: Western Power - tbc
B29: Financial assumptions | C29: Finance | D29: Discount rate used for modelling, inflation assumption | E29: Inflation
C30: Policy cost inputs | D30: Carbon costs used for sensitivity analysis and Value of customer reliability | E30: VCR

Sheet Scenarios
B1: Back to summary
B2: Summary of scenarios
B3: Summary description of scenarios for the Draft 2027 FESO
B5: Overview of scenarios
B7: Assumption | C7: Constrained | D7: Expected | E7: Rapid change
B9: Scenario
B10: Description | C10: Constrained assumes weaker economic conditions and softer climate ambition, resulting in slower population growth and limited new industry development | D10: Expected reflects current policies and trends with some alignment to the WEM ESOO 2026 for at least 5 years | E10: Rapid Change is driven by faster decarbonisation, strong economic growth and high commodity demand, accelerating economic, population and industrial growth
B12: Category
B13: IEA World Energy Outlook scenario alignment
B14: Economic growth, and demographic changes
B15: Decarbonisation policy and electrification in the SWIS
B16: New industries (data centres, green iron or hydrogen)
B17: Industrial load flexibility
B18: Distributed Energy Resources (DER)
B19: Coordinated DER
B20: Energy efficiency
B21: Natural gas cost and supply*
B22: Supply chain constraints

Sheet Demand parameters
B1: Back to summary
B2: Demand core parameters
B3: Scenario descriptions and parameters for distribution core modelling (households and small business) Source: Energeia
B5: Demand forecast parameters for distribution core modelling
B7: Setting | C7: Constrained | D7: Central | E7: Rapid Change
B9: Description | C9: A lower-growth scenario characterised by weaker economic and population growth, slower electrification and CER adoption, and more constrained infrastructure development. Cost-of-living, technology and supply-chain pressures limit customer investment, while VPP participation and coordinated CER operation develop later and at a lower level than under the Expected and Rapid Change scenarios. DSO-controlled VPP operation does not occur. | D9: The central scenario, representing the expected progression of economic and population growth, electrification, CER adoption and enabling infrastructure under anticipated market and policy conditions. VPP participation develops progressively, with coordinated CER becoming an increasingly viable resource for customers and the distribution system. DSO-controlled VPP operation does not occur. | E9: A higher-growth scenario characterised by stronger economic and population growth, accelerated electrification, more favourable technology economics and faster CER adoption. VPP participation and coordinated CER operation develop earlier and at greater scale, supported by stronger incentives and earlier deployment of enabling infrastructure. DSO-controlled VPP operation does not occur.
B11: Electric Vehicles | C11: Price parity between internal combustion engines and electric vehicles is achieved later due to a cost premium of 20% applied to electric vehicles relative to the central scenario. Charing infrastructure availability reaches 80% by 2042 with no additional policies driving uptake. Model availability continues to rapidly improve including in heavier vehicles with 90% of model types available by 2045. | D11: Price parity in the Central scenario occurs from the start. Charing infrastructure avilability reaches 90% by 2037 with further policy responses to increas uptake implemented from 2045. Model availability continues to rapidly improve including in heavier vehicles with 90% of model types available by 2035. | E11: Electric vehicles are discounted 20% relative to the central scenario improving the economic case to purchase electric vehicles. Charing infrastructure avilability reaches 95% by 2032 with further policy responses to increas uptake implemented from 2045. Model availability continues to rapidly improve including in heavier vehicles with 90% of model types available by 2030.
B13: Solar PV and Storage | C13: Value claimed through the Smallscale Renewable Energy Schem reduces to zero by 2030 and connection limits are raised to 30KVA. Storage subsidies continue for a shorter period of time. Dynamic operating envelopes commence from 2031 with a limit of 5kW. Customer propensity to invest is less and feed-in tariffs decline further. | D13: Value claimed through the Smallscale Renewable Energy Schem reduces to zero by 2030 and connection limits are raised to 30KVA. Storage subsidies continue for a time and then decline. Dynamic operating envelopes commence from 2028 with a limit rising to 10KW by 2030 and 15kW by 2040. Customer propensity to invest follows current trends and feed-in tariffs remain as they are. | E13: Value claimed through the Smallscale Renewable Energy Schem reduces to zero by 2030 and connection limits are raised to 30KVA. Storage subsidies continue for a longer period of time. Dynamic operating envelopes commence from 2026 with an export limit rising to 10KW by 2027 and 15kW by 2035. Customer propensity to invest is greater and feed-in tariffs increase a small amount.
B15: Coordination | C15: Coordination is not modelled in distribution forecasts, reference MISA methodology.
B17: Appliances | C17: Appliance and energy efficient appliance costs follow expected trends. | D17: Appliance and energy efficient appliance costs follow expected trends with policy driving more rapid appliance electrification from 2045. | E17: Appliance and energy efficient appliance costs are less costly than expected and with policy drives more rapid appliance electrification from 2040.
B19: Population | C19: WA Tomorrow Band A | D19: WA Tomorrow Band C | E19: WA Tomorrow Band E

Sheet Economic factors
B1: Back to summary
B2: Economics factors
B3: Economic growth assumptions used in the demand forecasts
B5: Economic growth forecasts (%)
B6: Source: EPWA analysis
B7: Scenario | C7: 2026 | D7: 2027 | E7: 2028 | F7: 2029 | G7: 2030 | H7: 2031 | I7: 2032 | J7: 2033 | K7: 2034 | L7: 2035 | M7: 2036 | N7: 2037 | O7: 2038 | P7: 2039 | Q7: 2040 | R7: 2041 | S7: 2042 | T7: 2043 | U7: 2044 | V7: 2045 | W7: 2046 | X7: 2047 | Y7: 2048 | Z7: 2049 | AA7: 2050
B8: Constrained | C8: 0.0125 | D8: 0.0125 | E8: 0.0125 | F8: 0.0125 | G8: 0.0125 | H8: 0.0125 | I8: 0.0125 | J8: 0.0125 | K8: 0.0125 | L8: 0.0125 | M8: 0.0125 | N8: 0.015 | O8: 0.015 | P8: 0.015 | Q8: 0.015 | R8: 0.015 | S8: 0.015 | T8: 0.015 | U8: 0.015 | V8: 0.015 | W8: 0.015 | X8: 0.015 | Y8: 0.015 | Z8: 0.015 | AA8: 0.015
B9: Expected | C9: 0.02 | D9: 0.02 | E9: 0.02 | F9: 0.02 | G9: 0.02 | H9: 0.02 | I9: 0.02 | J9: 0.02 | K9: 0.02 | L9: 0.02 | M9: 0.02 | N9: 0.02 | O9: 0.02 | P9: 0.02 | Q9: 0.02 | R9: 0.02 | S9: 0.02 | T9: 0.02 | U9: 0.02 | V9: 0.02 | W9: 0.02 | X9: 0.02 | Y9: 0.02 | Z9: 0.02 | AA9: 0.02
B10: Rapid change | C10: 0.03 | D10: 0.03 | E10: 0.03 | F10: 0.03 | G10: 0.03 | H10: 0.03 | I10: 0.03 | J10: 0.03 | K10: 0.03 | L10: 0.03 | M10: 0.03 | N10: 0.03 | O10: 0.03 | P10: 0.03 | Q10: 0.03 | R10: 0.03 | S10: 0.03 | T10: 0.03 | U10: 0.03 | V10: 0.03 | W10: 0.03 | X10: 0.03 | Y10: 0.03 | Z10: 0.03 | AA10: 0.03
B13: Population growth forecasts (%)
B14: Source: WA Tomorrow
B15: Scenario | C15: 2026 | D15: 2027 | E15: 2028 | F15: 2029 | G15: 2030 | H15: 2031 | I15: 2032 | J15: 2033 | K15: 2034 | L15: 2035 | M15: 2036 | N15: 2037 | O15: 2038 | P15: 2039 | Q15: 2040 | R15: 2041 | S15: 2042 | T15: 2043 | U15: 2044 | V15: 2045 | W15: 2046 | X15: 2047 | Y15: 2048 | Z15: 2049 | AA15: 2050
B16: BAND A - Constrained | C16: 1.005313 | D16: 1.0075541 | E16: 1.0072459 | F16: 1.0069748 | G16: 1.0066394 | H16: 1.0064116 | I16: 1.0054585 | J16: 1.005172 | K16: 1.0049297 | L16: 1.0046562 | M16: 1.0044193 | N16: 1.002581 | O16: 1.0048739 | P16: 1.004849 | Q16: 1.0048266 | R16: 1.0048027 | S16: 1.0047779 | T16: 1.0047577 | U16: 1.0047348 | V16: 1.0047122 | W16: 1.0046904 | X16: 1.0046688 | Y16: 1.0046459 | Z16: 1.0046238 | AA16: 1.0046028
B17: BAND C - Expected | C17: 1.0168283 | D17: 1.0168273 | E17: 1.016607 | F17: 1.0163929 | G17: 1.0161941 | H17: 1.0160129 | I17: 1.0158075 | J17: 1.0156301 | K17: 1.0154849 | L17: 1.0153354 | M17: 1.0151778 | N17: 1.015074 | O17: 1.0145275 | P17: 1.0143187 | Q17: 1.0141182 | R17: 1.0139211 | S17: 1.0137289 | T17: 1.0135435 | U17: 1.0133605 | V17: 1.0131871 | W17: 1.0130162 | X17: 1.0128465 | Y17: 1.0126833 | Z17: 1.0125278 | AA17: 1.0123695
B18: BAND E - Rapid | C18: 1.0273945 | D18: 1.0251315 | E18: 1.0248573 | F18: 1.0245672 | G18: 1.0243123 | H18: 1.0240503 | I18: 1.0243255 | J18: 1.024067 | K18: 1.0238393 | L18: 1.02364 | M18: 1.0234052 | N18: 1.0215441 | O18: 1.0212909 | P18: 1.0208466 | Q18: 1.0204207 | R18: 1.0200143 | S18: 1.0196196 | T18: 1.0192429 | U18: 1.0188773 | V18: 1.0185288 | W18: 1.0181909 | X18: 1.0178693 | Y18: 1.0175528 | Z18: 1.0172514 | AA18: 1.0169569
B20: Connection growth forecasts (number)
B21: Source: Energeia
B22: SCENARIO_NAME | C22: 2026 | D22: 2027 | E22: 2028 | F22: 2029 | G22: 2030 | H22: 2031 | I22: 2032 | J22: 2033 | K22: 2034 | L22: 2035 | M22: 2036 | N22: 2037 | O22: 2038 | P22: 2039 | Q22: 2040 | R22: 2041 | S22: 2042 | T22: 2043 | U22: 2044 | V22: 2045 | W22: 2046 | X22: 2047 | Y22: 2048 | Z22: 2049 | AA22: 2050
B23: FESO 2027.CONSTRAINED.4.NO_VPP_MLv2 | C23: 1231435 | D23: 1240428 | E23: 1248401 | F23: 1256351 | G23: 1265222 | H23: 1302208 | I23: 1338575 | J23: 1375228 | K23: 1411672 | L23: 1447337 | M23: 1456493 | N23: 1467211 | O23: 1475847 | P23: 1486587 | Q23: 1497900 | R23: 1507336 | S23: 1517389 | T23: 1528297 | U23: 1539266 | V23: 1550712 | W23: 1561101 | X23: 1571619 | Y23: 1583331 | Z23: 1593778 | AA23: 1603430
B24: FESO 2027.EXPECTED.4.NO_VPP_MLv2 | C24: 1241867 | D24: 1261700 | E24: 1283220 | F24: 1304460 | G24: 1325497 | H24: 1382269 | I24: 1445926 | J24: 1509041 | K24: 1572588 | L24: 1638944 | M24: 1674728 | N24: 1696782 | O24: 1723365 | P24: 1753997 | Q24: 1780624 | R24: 1807810 | S24: 1834457 | T24: 1862512 | U24: 1890927 | V24: 1919939 | W24: 1950201 | X24: 1979545 | Y24: 2008347 | Z24: 2035424 | AA24: 2061219
B25: FESO 2027.RAPID.4.NO_VPP_MLv2 | C25: 1253841 | D25: 1282688 | E25: 1314850 | F25: 1347096 | G25: 1380493 | H25: 1439438 | I25: 1505263 | J25: 1569063 | K25: 1635456 | L25: 1702107 | M25: 1744697 | N25: 1781220 | O25: 1817402 | P25: 1858461 | Q25: 1895259 | R25: 1933030 | S25: 1970619 | T25: 2010485 | U25: 2048517 | V25: 2086611 | W25: 2121896 | X25: 2155670 | Y25: 2196491 | Z25: 2233572 | AA25: 2270817

Sheet Operational
B1: Back to summary
B2: Operational demand assumptions
B3: Yearly peak and minimum operational demand, total consumption per zone and scenario
B5: Peak operational demand (MW)
B6: Source: Energeia
B7: SCENARIO_NAME | C7: NODE | D7: 2026 | E7: 2027 | F7: 2028 | G7: 2029 | H7: 2030 | I7: 2031 | J7: 2032 | K7: 2033 | L7: 2034 | M7: 2035 | N7: 2036 | O7: 2037 | P7: 2038 | Q7: 2039 | R7: 2040 | S7: 2041 | T7: 2042 | U7: 2043 | V7: 2044 | W7: 2045 | X7: 2046 | Y7: 2047 | Z7: 2048 | AA7: 2049 | AB7: 2050
B8: FESO 2027.CONSTRAINED.4.NO_VPP_MLv2 | C8: CD | D8: 196.24 | E8: 198.73 | F8: 202.38 | G8: 204.28 | H8: 205.82 | I8: 221.71 | J8: 228.18 | K8: 240.82 | L8: 252.25 | M8: 264.38 | N8: 267.55 | O8: 267.32 | P8: 270.43 | Q8: 273.5 | R8: 279.94 | S8: 275.69 | T8: 273.98 | U8: 274.28 | V8: 256.27 | W8: 250.26 | X8: 258.44 | Y8: 263.68 | Z8: 259.02 | AA8: 265.02 | AB8: 265.06
B9: FESO 2027.CONSTRAINED.4.NO_VPP_MLv2 | C9: CM | D9: 44.27 | E9: 44.84 | F9: 45.46 | G9: 45.9 | H9: 46.87 | I9: 47.95 | J9: 48.92 | K9: 50.24 | L9: 51.59 | M9: 52.23 | N9: 52.89 | O9: 52.79 | P9: 52.95 | Q9: 53.47 | R9: 54.01 | S9: 54.78 | T9: 55.63 | U9: 56.52 | V9: 58 | W9: 57.74 | X9: 59.61 | Y9: 61.86 | Z9: 63.56 | AA9: 65.4 | AB9: 67.27
B10: FESO 2027.CONSTRAINED.4.NO_VPP_MLv2 | C10: EG | D10: 184.39 | E10: 186.75 | F10: 187.24 | G10: 190.04 | H10: 191.93 | I10: 196.15 | J10: 200.89 | K10: 204.58 | L10: 208.26 | M10: 208.52 | N10: 211.72 | O10: 210.81 | P10: 215.18 | Q10: 215.75 | R10: 218.75 | S10: 223.25 | T10: 226.02 | U10: 229.94 | V10: 234.79 | W10: 228.63 | X10: 236.01 | Y10: 241.96 | Z10: 251.59 | AA10: 261.78 | AB10: 272.13
B11: FESO 2027.CONSTRAINED.4.NO_VPP_MLv2 | C11: GL | D11: 228.72 | E11: 265.83 | F11: 268.54 | G11: 270.03 | H11: 267.88 | I11: 272.19 | J11: 275.34 | K11: 281.96 | L11: 284.39 | M11: 287.58 | N11: 288.4 | O11: 338.98 | P11: 340.48 | Q11: 341.58 | R11: 344.29 | S11: 347.01 | T11: 347.09 | U11: 346.62 | V11: 337.71 | W11: 335.12 | X11: 343.95 | Y11: 348.52 | Z11: 348.87 | AA11: 355.68 | AB11: 357.91
B12: FESO 2027.CONSTRAINED.4.NO_VPP_MLv2 | C12: GS | D12: 63.34 | E12: 63.41 | F12: 64.57 | G12: 65.39 | H12: 67.06 | I12: 70.38 | J12: 74.23 | K12: 80.37 | L12: 84.75 | M12: 88.37 | N12: 91.08 | O12: 90.85 | P12: 92.43 | Q12: 92.53 | R12: 103.45 | S12: 114.99 | T12: 126.57 | U12: 136.57 | V12: 147.79 | W12: 144.3 | X12: 147.29 | Y12: 149.06 | Z12: 149.62 | AA12: 151.91 | AB12: 152.75
B13: FESO 2027.CONSTRAINED.4.NO_VPP_MLv2 | C13: KD | D13: 18.58 | E13: 18.87 | F13: 18.99 | G13: 19.16 | H13: 18.74 | I13: 19.25 | J13: 19.77 | K13: 20.34 | L13: 21.02 | M13: 21.06 | N13: 21.22 | O13: 20.72 | P13: 20.61 | Q13: 20.91 | R13: 21.34 | S13: 21.88 | T13: 22.32 | U13: 22.87 | V13: 23.53 | W13: 22.61 | X13: 23.31 | Y13: 23.96 | Z13: 24.78 | AA13: 26.04 | AB13: 27.24
B14: FESO 2027.CONSTRAINED.4.NO_VPP_MLv2 | C14: KM | D14: 397.5 | E14: 399.34 | F14: 405.33 | G14: 409.8 | H14: 419.56 | I14: 431.1 | J14: 420.36 | K14: 435.33 | L14: 449.58 | M14: 458.86 | N14: 469.44 | O14: 473.38 | P14: 485.61 | Q14: 494.18 | R14: 498.73 | S14: 511.09 | T14: 513.86 | U14: 522.07 | V14: 527.59 | W14: 538.01 | X14: 556.28 | Y14: 569.4 | Z14: 580.58 | AA14: 596.16 | AB14: 609.68
B15: FESO 2027.CONSTRAINED.4.NO_VPP_MLv2 | C15: KW | D15: 127.26 | E15: 129.39 | F15: 158.16 | G15: 160.6 | H15: 162.61 | I15: 166.3 | J15: 170.29 | K15: 176.14 | L15: 181.47 | M15: 328.97 | N15: 320.22 | O15: 316.86 | P15: 316.65 | Q15: 321.71 | R15: 323.22 | S15: 326.33 | T15: 336.03 | U15: 341.1 | V15: 333.12 | W15: 342.14 | X15: 357.68 | Y15: 370.25 | Z15: 382.94 | AA15: 387.01 | AB15: 392.55
B16: FESO 2027.CONSTRAINED.4.NO_VPP_MLv2 | C16: MC | D16: 503.99 | E16: 503.13 | F16: 511.55 | G16: 511.9 | H16: 519.62 | I16: 530.13 | J16: 546.55 | K16: 564.64 | L16: 578.92 | M16: 595.67 | N16: 601.1 | O16: 606.2 | P16: 609.49 | Q16: 606.64 | R16: 605.24 | S16: 600.92 | T16: 598.18 | U16: 602.51 | V16: 599.02 | W16: 589.45 | X16: 591.05 | Y16: 597.87 | Z16: 599.32 | AA16: 604.1 | AB16: 602.71
B17: FESO 2027.CONSTRAINED.4.NO_VPP_MLv2 | C17: MD | D17: 26.21 | E17: 26.54 | F17: 26.91 | G17: 27.17 | H17: 26.95 | I17: 27.7 | J17: 28.63 | K17: 29.87 | L17: 31.17 | M17: 32.16 | N17: 32.44 | O17: 31.4 | P17: 31.21 | Q17: 31.53 | R17: 32.21 | S17: 32.83 | T17: 33.35 | U17: 33.87 | V17: 34.24 | W17: 31.81 | X17: 32.4 | Y17: 33.57 | Z17: 34.66 | AA17: 35.68 | AB17: 37.19
B18: FESO 2027.CONSTRAINED.4.NO_VPP_MLv2 | C18: MN | D18: 777.15 | E18: 776.83 | F18: 786.76 | G18: 794.25 | H18: 802.62 | I18: 825.36 | J18: 847.2 | K18: 874.71 | L18: 899.38 | M18: 915.56 | N18: 926.94 | O18: 938.1 | P18: 939.91 | Q18: 928.78 | R18: 934.94 | S18: 902.97 | T18: 876.66 | U18: 870.02 | V18: 869.22 | W18: 854.35 | X18: 863.5 | Y18: 870.53 | Z18: 853.11 | AA18: 860.95 | AB18: 849.92
... B79: FESO 2027.RAPID.4.NO_VPP_MLv2 | C79: WL | D79: 149.56 | E79: 150.5 | F79: 152.22 | G79: 153.03 | H79: 154.12 | I79: 156.67 | J79: 169.18 | K79: 182.53 | L79: 197.45 | M79: 213.86 | N79: 221.29 | O79: 230.91 | P79: 240.34 | Q79: 248.04 | R79: 255.56 | S79: 262.13 | T79: 269.38 | U79: 277.69 | V79: 286.3 | W79: 292.67 | X79: 302.22 | Y79: 307.06 | Z79: 314.13 | AA79: 314.57 | AB79: 318.14
B81: Minimum operational demand (MW)
B82: Source: Energeia
B83: SCENARIO_NAME | C83: NODE | D83: 2026 | E83: 2027 | F83: 2028 | G83: 2029 | H83: 2030 | I83: 2031 | J83: 2032 | K83: 2033 | L83: 2034 | M83: 2035 | N83: 2036 | O83: 2037 | P83: 2038 | Q83: 2039 | R83: 2040 | S83: 2041 | T83: 2042 | U83: 2043 | V83: 2044 | W83: 2045 | X83: 2046 | Y83: 2047 | Z83: 2048 | AA83: 2049 | AB83: 2050
B84: FESO 2027.CONSTRAINED.4.NO_VPP_MLv2 | C84: CD | D84: -74.79 | E84: -76.84 | F84: -76.98 | G84: -77.72 | H84: -84.45 | I84: -86.93 | J84: -100.23 | K84: -103.3 | L84: -111.24 | M84: -113.54 | N84: -131.72 | O84: -169.89 | P84: -182.83 | Q84: -226.16 | R84: -242.75 | S84: -260.04 | T84: -284.37 | U84: -295.35 | V84: -350.48 | W84: -387.11 | X84: -396.64 | Y84: -405.16 | Z84: -417.56 | AA84: -433.32 | AB84: -447.74
B85: FESO 2027.CONSTRAINED.4.NO_VPP_MLv2 | C85: CM | D85: 11 | E85: 9.49 | F85: 9.56 | G85: 9.56 | H85: 8.68 | I85: 8.4 | J85: 8.15 | K85: 7.7 | L85: 7.63 | M85: 5.21 | N85: 4.27 | O85: 0.02 | P85: -0.63 | Q85: -3.72 | R85: -6.09 | S85: -8.46 | T85: -10.66 | U85: -12.9 | V85: -15.55 | W85: -22.1 | X85: -23.17 | Y85: -23.8 | Z85: -26.1 | AA85: -27.7 | AB85: -29.73
B86: FESO 2027.CONSTRAINED.4.NO_VPP_MLv2 | C86: EG | D86: 6.89 | E86: 7.41 | F86: 7.73 | G86: 8.2 | H86: 3.94 | I86: 5.05 | J86: 6.26 | K86: 6.51 | L86: 7.4 | M86: -1.22 | N86: -2.97 | O86: -15.37 | P86: -14.81 | Q86: -18.11 | R86: -21 | S86: -24.51 | T86: -26.01 | U86: -31.6 | V86: -35.42 | W86: -54.41 | X86: -53.04 | Y86: -55.01 | Z86: -60.36 | AA86: -63.6 | AB86: -66.68
B87: FESO 2027.CONSTRAINED.4.NO_VPP_MLv2 | C87: GL | D87: 0.73 | E87: 29.89 | F87: 29.41 | G87: 27.69 | H87: 22.66 | I87: 20.41 | J87: 14.18 | K87: 11.21 | L87: 6.64 | M87: 2.98 | N87: -10.9 | O87: 26.91 | P87: 20.26 | Q87: -13.24 | R87: -22.7 | S87: -33.27 | T87: -50.96 | U87: -55.59 | V87: -79.15 | W87: -102.82 | X87: -105.69 | Y87: -109.45 | Z87: -122.27 | AA87: -128.97 | AB87: -134.67
B88: FESO 2027.CONSTRAINED.4.NO_VPP_MLv2 | C88: GS | D88: 11.54 | E88: 10.5 | F88: 10.83 | G88: 10.98 | H88: 11.38 | I88: 11.05 | J88: 9.13 | K88: 8.42 | L88: 8.74 | M88: 7.3 | N88: 3.78 | O88: 1.5 | P88: -0.93 | Q88: -12.89 | R88: -5.84 | S88: -0.09 | T88: 9.02 | U88: 13.25 | V88: 12.12 | W88: 3.37 | X88: -9.02 | Y88: -11.1 | Z88: -11.27 | AA88: -15.77 | AB88: -19.4
B89: FESO 2027.CONSTRAINED.4.NO_VPP_MLv2 | C89: KD | D89: 1.39 | E89: 1.46 | F89: 1.53 | G89: 1.58 | H89: 0.76 | I89: 0.79 | J89: 0.83 | K89: 0.85 | L89: 0.77 | M89: -1.16 | N89: -1.51 | O89: -4.73 | P89: -5.39 | Q89: -6.21 | R89: -6.97 | S89: -8.35 | T89: -9.2 | U89: -10.1 | V89: -11.89 | W89: -17.75 | X89: -17.85 | Y89: -18.99 | Z89: -20.34 | AA89: -21.52 | AB89: -22.51
B90: FESO 2027.CONSTRAINED.4.NO_VPP_MLv2 | C90: KM | D90: 108.62 | E90: 108.17 | F90: 110.66 | G90: 111.22 | H90: 113.3 | I90: 112.3 | J90: 97.96 | K90: 97.34 | L90: 98.4 | M90: 96.71 | N90: 92.19 | O90: 73.06 | P90: 68.16 | Q90: 14.26 | R90: -1.86 | S90: -9.84 | T90: -12.09 | U90: -43.32 | V90: -77 | W90: -105.15 | X90: -139.58 | Y90: -141.78 | Z90: -125.59 | AA90: -135.54 | AB90: -142.99
B91: FESO 2027.CONSTRAINED.4.NO_VPP_MLv2 | C91: KW | D91: -3.36 | E91: -3.12 | F91: 12.51 | G91: 12.44 | H91: 13.02 | I91: 12.23 | J91: 5.86 | K91: 5.48 | L91: 0.69 | M91: 62.51 | N91: 53.65 | O91: 42.86 | P91: 36.51 | Q91: 34.46 | R91: 29.71 | S91: 3.56 | T91: 4.45 | U91: 1.96 | V91: -8.62 | W91: -28.03 | X91: -27.36 | Y91: -25.48 | Z91: -22.09 | AA91: -19.13 | AB91: -23.69
B92: FESO 2027.CONSTRAINED.4.NO_VPP_MLv2 | C92: MC | D92: 60.66 | E92: 49.02 | F92: 52.67 | G92: 50.25 | H92: 48.53 | I92: 41.88 | J92: 45.19 | K92: 40.4 | L92: 18.21 | M92: 4.84 | N92: -11.18 | O92: -20.24 | P92: -36.72 | Q92: -67.18 | R92: -88 | S92: -122.54 | T92: -170.16 | U92: -187.83 | V92: -239.9 | W92: -298.31 | X92: -316.34 | Y92: -314.04 | Z92: -335.09 | AA92: -360.31 | AB92: -394.27
B93: FESO 2027.CONSTRAINED.4.NO_VPP_MLv2 | C93: MD | D93: 3.01 | E93: 3.09 | F93: 3.18 | G93: 3.26 | H93: 3.42 | I93: 3.49 | J93: 3.53 | K93: 3.11 | L93: 3.04 | M93: 0.91 | N93: 0.14 | O93: -5.4 | P93: -6.59 | Q93: -7.53 | R93: -8.58 | S93: -10.29 | T93: -11.08 | U93: -12.13 | V93: -14.1 | W93: -22.94 | X93: -22.84 | Y93: -24.47 | Z93: -26.22 | AA93: -27.83 | AB93: -28.84
B94: FESO 2027.CONSTRAINED.4.NO_VPP_MLv2 | C94: MN | D94: -134.13 | E94: -159.92 | F94: -155.89 | G94: -154.74 | H94: -159.25 | I94: -167.97 | J94: -171.86 | K94: -183.46 | L94: -215.89 | M94: -242.83 | N94: -278.36 | O94: -317.26 | P94: -365.22 | Q94: -471.43 | R94: -507.06 | S94: -613.49 | T94: -711.7 | U94: -769.14 | V94: -921.11 | W94: -1048.93 | X94: -1106.75 | Y94: -1110.51 | Z94: -1197.43 | AA94: -1256.73 | AB94: -1312.72
... B155: FESO 2027.RAPID.4.NO_VPP_MLv2 | C155: WL | D155: 7.84 | E155: 7.92 | F155: 7.9 | G155: 7.92 | H155: 7.97 | I155: 7.75 | J155: 8.05 | K155: 8.58 | L155: 9.25 | M155: 10.03 | N155: 10.31 | O155: 9.97 | P155: 9.9 | Q155: 9.33 | R155: 9.34 | S155: 9.21 | T155: 9.06 | U155: 8.49 | V155: 8.57 | W155: 7.46 | X155: 7.59 | Y155: 6.83 | Z155: 6.31 | AA155: 6.27 | AB155: 5.93
B157: Operational consumption (MWh)
B158: Source: Energeia
B159: SCENARIO_NAME | C159: NODE | D159: 2026 | E159: 2027 | F159: 2028 | G159: 2029 | H159: 2030 | I159: 2031 | J159: 2032 | K159: 2033 | L159: 2034 | M159: 2035 | N159: 2036 | O159: 2037 | P159: 2038 | Q159: 2039 | R159: 2040 | S159: 2041 | T159: 2042 | U159: 2043 | V159: 2044 | W159: 2045 | X159: 2046 | Y159: 2047 | Z159: 2048 | AA159: 2049 | AB159: 2050
B160: FESO 2027.CONSTRAINED.4.NO_VPP_MLv2 | C160: CD | D160: 392123.65 | E160: 395880.38 | F160: 408953.08 | G160: 411854.36 | H160: 399707.54 | I160: 428936.19 | J160: 423019.66 | K160: 445122.67 | L160: 450216.5 | M160: 477039.21 | N160: 442662.89 | O160: 347077.49 | P160: 325835.14 | Q160: 236688.55 | R160: 215167.75 | S160: 181492.89 | T160: 127636.24 | U160: 103644.99 | V160: -75375.835 | W160: -164594.13 | X160: -162711.31 | Y160: -169400.36 | Z160: -197741.76 | AA160: -212164.98 | AB160: -239568.92
B161: FESO 2027.CONSTRAINED.4.NO_VPP_MLv2 | C161: CM | D161: 259986.85 | E161: 257332.02 | F161: 260325.32 | G161: 261644.82 | H161: 260538.57 | I161: 264717.74 | J161: 270116.69 | K161: 273661.2 | L161: 280280.22 | M161: 278993.03 | N161: 279854.07 | O161: 269539.22 | P161: 268399.51 | Q161: 262736.02 | R161: 260681.59 | S161: 259104.48 | T161: 258463.67 | U161: 257665.6 | V161: 258824.39 | W161: 241238.37 | X161: 246215.12 | Y161: 254482.99 | Z161: 257900.9 | AA161: 263597.8 | AB161: 267841.07
B162: FESO 2027.CONSTRAINED.4.NO_VPP_MLv2 | C162: EG | D162: 1161093.9 | E162: 1172992.6 | F162: 1186047.8 | G162: 1193959.1 | H162: 1186386.3 | I162: 1206737.5 | J162: 1232491.3 | K162: 1247340.4 | L162: 1268955.5 | M162: 1262249.6 | N162: 1275679.7 | O162: 1248601.9 | P162: 1249103.5 | Q162: 1259898.1 | R162: 1277773 | S162: 1294986.6 | T162: 1319374 | U162: 1334788.6 | V162: 1360821.7 | W162: 1293503.6 | X162: 1343117.2 | Y162: 1388180.1 | Z162: 1427191.5 | AA162: 1471631.4 | AB162: 1524648.8
B163: FESO 2027.CONSTRAINED.4.NO_VPP_MLv2 | C163: GL | D163: 827113.59 | E163: 1202710.3 | F163: 1215079.6 | G163: 1214083.5 | H163: 1202261.3 | I163: 1215402.2 | J163: 1228116.7 | K163: 1240436.2 | L163: 1245539.5 | M163: 1259392.8 | N163: 1251961 | O163: 1698338 | P163: 1696104.1 | Q163: 1637000.7 | R163: 1632653.4 | S163: 1616628.4 | T163: 1583555.9 | U163: 1578638.9 | V163: 1512972.8 | W163: 1460182.6 | X163: 1479341.3 | Y163: 1490174.8 | Z163: 1476192.1 | AA163: 1478745.1 | AB163: 1472848.9
...

Sheet Underlying
B1: Back to summary
B2: Underlying demand assumptions
B3: Yearly peak and minimum underlying demand, total consumption per zone and scenario
B5: Peak underlying demand (MW)
B6: Source: Energeia
B7: SCENARIO_NAME | C7: NODE | D7: 2026 | E7: 2027 | F7: 2028 | G7: 2029 | H7: 2030 | I7: 2031 | J7: 2032 | K7: 2033 | L7: 2034 | M7: 2035 | N7: 2036 | O7: 2037 | P7: 2038 | Q7: 2039 | R7: 2040 | S7: 2041 | T7: 2042 | U7: 2043 | V7: 2044 | W7: 2045 | X7: 2046 | Y7: 2047 | Z7: 2048 | AA7: 2049 | AB7: 2050
B8: FESO 2027.CONSTRAINED.4.NO_VPP_MLv2 | C8: CD | D8: 211.15 | E8: 215.01 | F8: 221.65 | G8: 223.59 | H8: 229.06 | I8: 253.42 | J8: 258.13 | K8: 277.51 | L8: 299.24 | M8: 327.73 | N8: 338.33 | O8: 349.13 | P8: 354.25 | Q8: 359.42 | R8: 371.61 | S8: 373.42 | T8: 384.57 | U8: 388.26 | V8: 393.81 | W8: 395.75 | X8: 403.23 | Y8: 404.41 | Z8: 394.9 | AA8: 403.32 | AB8: 413.27
B9: FESO 2027.CONSTRAINED.4.NO_VPP_MLv2 | C9: CM | D9: 53.57 | E9: 54.01 | F9: 54.5 | G9: 55.27 | H9: 55.93 | I9: 57.88 | J9: 59.62 | K9: 61.93 | L9: 64.37 | M9: 66.62 | N9: 67.68 | O9: 68.82 | P9: 69.74 | Q9: 70.97 | R9: 72.28 | S9: 73.91 | T9: 75.14 | U9: 76.8 | V9: 78.61 | W9: 80.66 | X9: 82.72 | Y9: 85.4 | Z9: 87.62 | AA9: 89.53 | AB9: 91.66
B10: FESO 2027.CONSTRAINED.4.NO_VPP_MLv2 | C10: EG | D10: 190.94 | E10: 193.06 | F10: 195.95 | G10: 196.99 | H10: 199.32 | I10: 204.87 | J10: 209.51 | K10: 216.32 | L10: 222.32 | M10: 227.86 | N10: 232.92 | O10: 236.43 | P10: 240.22 | Q10: 242.8 | R10: 245.11 | S10: 249.93 | T10: 252.54 | U10: 258.14 | V10: 264.57 | W10: 268.84 | X10: 277.84 | Y10: 286.84 | Z10: 296.06 | AA10: 306.24 | AB10: 315.47
B11: FESO 2027.CONSTRAINED.4.NO_VPP_MLv2 | C11: GL | D11: 265.46 | E11: 317.05 | F11: 321.64 | G11: 323.68 | H11: 325.45 | I11: 332.63 | J11: 334.12 | K11: 343.75 | L11: 352.54 | M11: 362.48 | N11: 370.67 | O11: 435.65 | P11: 441.63 | Q11: 446.29 | R11: 451.18 | S11: 454.52 | T11: 459.71 | U11: 464.47 | V11: 471.94 | W11: 475.28 | X11: 480.82 | Y11: 485.7 | Z11: 481.06 | AA11: 487.66 | AB11: 495.63
B12: FESO 2027.CONSTRAINED.4.NO_VPP_MLv2 | C12: GS | D12: 74.39 | E12: 75.04 | F12: 76.19 | G12: 77.13 | H12: 78.36 | I12: 81.95 | J12: 86.58 | K12: 91.98 | L12: 96.84 | M12: 101.81 | N12: 104.03 | O12: 104.61 | P12: 106.88 | Q12: 109.23 | R12: 123.57 | S12: 138.82 | T12: 153.51 | U12: 167.75 | V12: 181.88 | W12: 182.35 | X12: 185.23 | Y12: 188.1 | Z12: 190.09 | AA12: 193.1 | AB12: 196.25
B13: FESO 2027.CONSTRAINED.4.NO_VPP_MLv2 | C13: KD | D13: 22.64 | E13: 22.82 | F13: 23.03 | G13: 23.27 | H13: 23.6 | I13: 24.2 | J13: 24.95 | K13: 25.82 | L13: 26.79 | M13: 27.75 | N13: 28.2 | O13: 28.6 | P13: 28.99 | Q13: 29.49 | R13: 29.89 | S13: 30.51 | T13: 31.16 | U13: 31.85 | V13: 33 | W13: 34.04 | X13: 35.24 | Y13: 36.61 | Z13: 38.07 | AA13: 39.31 | AB13: 40.54
B14: FESO 2027.CONSTRAINED.4.NO_VPP_MLv2 | C14: KM | D14: 462.56 | E14: 468.13 | F14: 476.45 | G14: 483.09 | H14: 491.21 | I14: 510.49 | J14: 533.35 | K14: 555.92 | L14: 575.31 | M14: 598.02 | N14: 612.54 | O14: 624.98 | P14: 641.23 | Q14: 654.16 | R14: 663.69 | S14: 679.33 | T14: 688.96 | U14: 702 | V14: 712.8 | W14: 724.08 | X14: 746.22 | Y14: 767.66 | Z14: 783.8 | AA14: 807.37 | AB14: 827.12
B15: FESO 2027.CONSTRAINED.4.NO_VPP_MLv2 | C15: KW | D15: 156.99 | E15: 160.06 | F15: 198.05 | G15: 200.52 | H15: 203.53 | I15: 210.18 | J15: 217.11 | K15: 225 | L15: 232.56 | M15: 394.96 | N15: 399.13 | O15: 407.56 | P15: 412.91 | Q15: 422.15 | R15: 432.92 | S15: 444.03 | T15: 450.42 | U15: 458.53 | V15: 469.26 | W15: 484.85 | X15: 498.75 | Y15: 511.97 | Z15: 526.42 | AA15: 537.48 | AB15: 540.43
B16: FESO 2027.CONSTRAINED.4.NO_VPP_MLv2 | C16: MC | D16: 577.41 | E16: 585.52 | F16: 595.62 | G16: 604.95 | H16: 615.32 | I16: 636.12 | J16: 659.39 | K16: 686.19 | L16: 712.63 | M16: 739.95 | N16: 753.71 | O16: 765.29 | P16: 779 | Q16: 790.16 | R16: 804.81 | S16: 810.87 | T16: 821.25 | U16: 832.82 | V16: 847.07 | W16: 858.62 | X16: 871 | Y16: 884.71 | Z16: 896.16 | AA16: 913.15 | AB16: 918.29
B17: FESO 2027.CONSTRAINED.4.NO_VPP_MLv2 | C17: MD | D17: 31.4 | E17: 31.78 | F17: 32.2 | G17: 32.56 | H17: 33.02 | I17: 34.08 | J17: 35.3 | K17: 36.86 | L17: 38.52 | M17: 40.25 | N17: 41.06 | O17: 41.73 | P17: 42.35 | Q17: 42.98 | R17: 43.55 | S17: 44.39 | T17: 45.02 | U17: 45.76 | V17: 47 | W17: 48.43 | X17: 49.6 | Y17: 51.22 | Z17: 52.79 | AA17: 54.19 | AB17: 55.5
B18: FESO 2027.CONSTRAINED.4.NO_VPP_MLv2 | C18: MN | D18: 867.09 | E18: 876.94 | F18: 891.12 | G18: 902.99 | H18: 919.51 | I18: 955.41 | J18: 985.03 | K18: 1039.34 | L18: 1088.55 | M18: 1132.21 | N18: 1157.53 | O18: 1179.63 | P18: 1196.23 | Q18: 1211.16 | R18: 1230.33 | S18: 1232.97 | T18: 1244.21 | U18: 1257.74 | V18: 1279.57 | W18: 1290.24 | X18: 1304.79 | Y18: 1324.61 | Z18: 1322.38 | AA18: 1345.15 | AB18: 1344.9
... B79: FESO 2027.RAPID.4.NO_VPP_MLv2 | C79: WL | D79: 149.57 | E79: 150.92 | F79: 152.47 | G79: 154.16 | H79: 154.38 | I79: 156.95 | J79: 169.44 | K79: 182.83 | L79: 197.68 | M79: 214.15 | N79: 221.61 | O79: 231.22 | P79: 240.76 | Q79: 248.21 | R79: 256.1 | S79: 262.77 | T79: 269.94 | U79: 278.21 | V79: 286.61 | W79: 293.05 | X79: 302.63 | Y79: 307.52 | Z79: 314.6 | AA79: 316.5 | AB79: 318.57
B81: Minimum underlying demand (MW)
B82: Source: Energeia
B83: SCENARIO_NAME | C83: NODE | D83: 2026 | E83: 2027 | F83: 2028 | G83: 2029 | H83: 2030 | I83: 2031 | J83: 2032 | K83: 2033 | L83: 2034 | M83: 2035 | N83: 2036 | O83: 2037 | P83: 2038 | Q83: 2039 | R83: 2040 | S83: 2041 | T83: 2042 | U83: 2043 | V83: 2044 | W83: 2045 | X83: 2046 | Y83: 2047 | Z83: 2048 | AA83: 2049 | AB83: 2050
B84: FESO 2027.CONSTRAINED.4.NO_VPP_MLv2 | C84: CD | D84: 10.37 | E84: 13.98 | F84: 17.39 | G84: 19.38 | H84: 22.25 | I84: 34.08 | J84: 33.29 | K84: 42.17 | L84: 45.36 | M84: 47.73 | N84: 37.9 | O84: 49.53 | P84: 50.07 | Q84: 50.71 | R84: 40.09 | S84: 52.27 | T84: 53.07 | U84: 53.72 | V84: 40.83 | W84: 55.3 | X84: 56.27 | Y84: 56.88 | Z84: 42.38 | AA84: 57.83 | AB84: 57.46
B85: FESO 2027.CONSTRAINED.4.NO_VPP_MLv2 | C85: CM | D85: 15.12 | E85: 15.22 | F85: 15.32 | G85: 15.44 | H85: 15.61 | I85: 16.08 | J85: 16.58 | K85: 17.2 | L85: 17.81 | M85: 18.36 | N85: 18.72 | O85: 18.94 | P85: 19.21 | Q85: 19.58 | R85: 19.89 | S85: 20.38 | T85: 20.77 | U85: 21.21 | V85: 21.63 | W85: 22.08 | X85: 22.69 | Y85: 23.25 | Z85: 23.88 | AA85: 24.49 | AB85: 25.11
B86: FESO 2027.CONSTRAINED.4.NO_VPP_MLv2 | C86: EG | D86: 17.38 | E86: 17.97 | F86: 18.52 | G86: 19.12 | H86: 19.99 | I86: 21.93 | J86: 24.15 | K86: 27.28 | L86: 29.8 | M86: 32.01 | N86: 32.69 | O86: 33.35 | P86: 33.72 | Q86: 34.17 | R86: 34.76 | S86: 35.28 | T86: 35.51 | U86: 35.9 | V86: 36.64 | W86: 37.28 | X86: 38.06 | Y86: 38.95 | Z86: 39.98 | AA86: 40.8 | AB86: 41.49
B87: FESO 2027.CONSTRAINED.4.NO_VPP_MLv2 | C87: GL | D87: 62.96 | E87: 94.7 | F87: 95.54 | G87: 96.51 | H87: 97.6 | I87: 99.74 | J87: 101.55 | K87: 103.65 | L87: 105.8 | M87: 108.13 | N87: 110.7 | O87: 169.15 | P87: 171.33 | Q87: 172.84 | R87: 174.51 | S87: 175.4 | T87: 177.11 | U87: 178.56 | V87: 179.93 | W87: 181.27 | X87: 183.97 | Y87: 185.12 | Z87: 185.76 | AA87: 188.03 | AB87: 189.69
B88: FESO 2027.CONSTRAINED.4.NO_VPP_MLv2 | C88: GS | D88: 19.67 | E88: 19.97 | F88: 15.76 | G88: 20.58 | H88: 20.96 | I88: 22.09 | J88: 18.15 | K88: 25.02 | L88: 26.36 | M88: 27.8 | N88: 21.83 | O88: 28.6 | P88: 28.93 | Q88: 29.39 | R88: 33.79 | S88: 49.67 | T88: 59.78 | U88: 70 | V88: 78.66 | W88: 79.94 | X88: 80.33 | Y88: 80.92 | Z88: 79.95 | AA88: 81.95 | AB88: 82.38
B89: FESO 2027.CONSTRAINED.4.NO_VPP_MLv2 | C89: KD | D89: 2.76 | E89: 2.81 | F89: 2.86 | G89: 2.91 | H89: 2.97 | I89: 3.13 | J89: 3.31 | K89: 3.56 | L89: 3.8 | M89: 4.06 | N89: 4.16 | O89: 4.26 | P89: 4.31 | Q89: 4.38 | R89: 4.47 | S89: 4.55 | T89: 4.6 | U89: 4.69 | V89: 4.87 | W89: 5 | X89: 5.13 | Y89: 5.32 | Z89: 5.49 | AA89: 5.63 | AB89: 5.77
B90: FESO 2027.CONSTRAINED.4.NO_VPP_MLv2 | C90: KM | D90: 156.88 | E90: 158.13 | F90: 159.77 | G90: 161.84 | H90: 163.1 | I90: 167.47 | J90: 172.97 | K90: 178.31 | L90: 183.71 | M90: 189.04 | N90: 193.93 | O90: 197.85 | P90: 202.81 | Q90: 206.56 | R90: 210.3 | S90: 215.52 | T90: 219.48 | U90: 224.2 | V90: 228.16 | W90: 232.15 | X90: 240.26 | Y90: 246.21 | Z90: 251.53 | AA90: 257.58 | AB90: 264.85
B91: FESO 2027.CONSTRAINED.4.NO_VPP_MLv2 | C91: KW | D91: 32.19 | E91: 32.73 | F91: 51.41 | G91: 51.98 | H91: 52.68 | I91: 53.97 | J91: 55.77 | K91: 56.91 | L91: 58.56 | M91: 127.92 | N91: 129.34 | O91: 131.49 | P91: 132.61 | Q91: 139.62 | R91: 144.71 | S91: 151.01 | T91: 157.34 | U91: 162.92 | V91: 167.98 | W91: 177.08 | X91: 186.39 | Y91: 195.05 | Z91: 201.61 | AA91: 205.61 | AB91: 208.11
B92: FESO 2027.CONSTRAINED.4.NO_VPP_MLv2 | C92: MC | D92: 126.78 | E92: 130.49 | F92: 121.25 | G92: 136.24 | H92: 139.01 | I92: 145.03 | J92: 135.22 | K92: 157.35 | L92: 163.77 | M92: 170.09 | N92: 153.72 | O92: 176.23 | P92: 179.63 | Q92: 182.24 | R92: 165.18 | S92: 188.92 | T92: 191.66 | U92: 195.26 | V92: 180 | W92: 201.64 | X92: 205.21 | Y92: 209.14 | Z92: 193.79 | AA92: 217.22 | AB92: 220.63
B93: FESO 2027.CONSTRAINED.4.NO_VPP_MLv2 | C93: MD | D93: 5.81 | E93: 5.89 | F93: 5.96 | G93: 6.04 | H93: 6.13 | I93: 6.39 | J93: 6.69 | K93: 7.08 | L93: 7.46 | M93: 7.85 | N93: 8.01 | O93: 8.16 | P93: 8.27 | Q93: 8.4 | R93: 8.55 | S93: 8.71 | T93: 8.8 | U93: 8.94 | V93: 9.12 | W93: 9.36 | X93: 9.52 | Y93: 9.79 | Z93: 10.04 | AA93: 10.26 | AB93: 10.47
B94: FESO 2027.CONSTRAINED.4.NO_VPP_MLv2 | C94: MN | D94: 117.54 | E94: 125.17 | F94: 132.38 | G94: 150.52 | H94: 160.21 | I94: 165.83 | J94: 145.82 | K94: 180.72 | L94: 190.41 | M94: 196.65 | N94: 172.97 | O94: 203.86 | P94: 206.87 | Q94: 209.68 | R94: 184.28 | S94: 213.93 | T94: 216.85 | U94: 219.25 | V94: 193.01 | W94: 227.95 | X94: 231.1 | Y94: 234.63 | Z94: 205.53 | AA94: 241.27 | AB94: 242.65
... B155: FESO 2027.RAPID.4.NO_VPP_MLv2 | C155: WL | D155: 8.4 | E155: 8.45 | F155: 8.53 | G155: 8.58 | H155: 8.7 | I155: 8.87 | J155: 9.47 | K155: 10.15 | L155: 10.95 | M155: 11.9 | N155: 12.3 | O155: 12.75 | P155: 13.17 | Q155: 13.56 | R155: 13.88 | S155: 14.2 | T155: 14.52 | U155: 14.84 | V155: 15.3 | W155: 15.78 | X155: 16.27 | Y155: 16.67 | Z155: 16.82 | AA155: 17.05 | AB155: 17.19
B157: Underlying energy consumption (MWh)
B158: Source: Energeia
B159: SCENARIO_NAME | C159: NODE | D159: 2026 | E159: 2027 | F159: 2028 | G159: 2029 | H159: 2030 | I159: 2031 | J159: 2032 | K159: 2033 | L159: 2034 | M159: 2035 | N159: 2036 | O159: 2037 | P159: 2038 | Q159: 2039 | R159: 2040 | S159: 2041 | T159: 2042 | U159: 2043 | V159: 2044 | W159: 2045 | X159: 2046 | Y159: 2047 | Z159: 2048 | AA159: 2049 | AB159: 2050
B160: FESO 2027.CONSTRAINED.4.NO_VPP_MLv2 | C160: CD | D160: 653773.67 | E160: 668302.25 | F160: 688243.02 | G160: 696787.7 | H160: 712205.83 | I160: 770151.71 | J160: 788164.44 | K160: 829429.12 | L160: 883042.26 | M160: 935163.68 | N160: 963175.17 | O160: 984521.14 | P160: 998092.47 | Q160: 1013148.2 | R160: 1042126.7 | S160: 1048985.9 | T160: 1072856.8 | U160: 1085960.8 | V160: 1110352.1 | W160: 1119982.5 | X160: 1139859 | Y160: 1148902 | Z160: 1145522.4 | AA160: 1165256.9 | AB160: 1185701.9
B161: FESO 2027.CONSTRAINED.4.NO_VPP_MLv2 | C161: CM | D161: 287968.79 | E161: 290547.58 | F161: 293983.05 | G161: 295743.66 | H161: 298691.8 | I161: 306168.27 | J161: 315064.96 | K161: 324065.52 | L161: 333965.4 | M161: 343990.09 | N161: 350497.05 | O161: 354056.81 | P161: 358713.92 | Q161: 363766.9 | R161: 370219.78 | S161: 377487.76 | T161: 385053.12 | U161: 392944.41 | V161: 403136.46 | W161: 411279.24 | X161: 423314.46 | Y161: 437070.59 | Z161: 451386.88 | AA161: 461618.49 | AB161: 473668.36
B162: FESO 2027.CONSTRAINED.4.NO_VPP_MLv2 | C162: EG | D162: 1218317 | E162: 1229386.8 | F162: 1242382.4 | G162: 1249700.7 | H162: 1262142.1 | I162: 1284963.6 | J162: 1313773.3 | K162: 1343006.6 | L162: 1370437.2 | M162: 1399873.1 | N162: 1426923.9 | O162: 1445806.6 | P162: 1465950.6 | Q162: 1487321.2 | R162: 1514057.1 | S162: 1540368.5 | T162: 1569266.3 | U162: 1600192.5 | V162: 1640953 | W162: 1672365.7 | X162: 1731603 | Y162: 1795243.7 | Z162: 1862631.4 | AA162: 1918776.1 | AB162: 1978994.5
B163: FESO 2027.CONSTRAINED.4.NO_VPP_MLv2 | C163: GL | D163: 1041303.6 | E163: 1431650.5 | F163: 1450494.8 | G163: 1454461.2 | H163: 1463647.3 | I163: 1488340.2 | J163: 1513190.4 | K163: 1538505.6 | L163: 1570102 | M163: 1600021.5 | N163: 1642691.4 | O163: 2170268.2 | P163: 2190369.5 | Q163: 2213641.2 | R163: 2242719 | S163: 2255534.3 | T163: 2279380.6 | U163: 2299316.1 | V163: 2330374 | W163: 2345664.9 | X163: 2374181.6 | Y163: 2394096.3 | Z163: 2414190 | AA163: 2438781.5 | AB163: 2459694.8
...

Sheet Large loads
B1: Back to summary
B2: Large loads
B3: Existing and new major loads.
B5: Existing large loads Peak (MW)
B6: Source:
B7: SCENARIO_NAME | C7: NODE | D7: 2026 | E7: 2027 | F7: 2028 | G7: 2029 | H7: 2030 | I7: 2031 | J7: 2032 | K7: 2033 | L7: 2034 | M7: 2035 | N7: 2036 | O7: 2037 | P7: 2038 | Q7: 2039 | R7: 2040 | S7: 2041 | T7: 2042 | U7: 2043 | V7: 2044 | W7: 2045 | X7: 2046 | Y7: 2047 | Z7: 2048 | AA7: 2049 | AB7: 2050
B8: FESO 2027.CONSTRAINED.4.NO_VPP_MLv2 | C8: CD | D8: 10 | E8: 10.17 | F8: 10.28 | G8: 10.44 | H8: 10.65 | I8: 10.73 | J8: 10.9 | K8: 11.05 | L8: 11.14 | M8: 11.22 | N8: 11.44 | O8: 11.71 | P8: 11.9 | Q8: 12.18 | R8: 12.37 | S8: 12.63 | T8: 12.96 | U8: 13.12 | V8: 13.25 | W8: 13.58 | X8: 13.93 | Y8: 14.15 | Z8: 14.47 | AA8: 14.79 | AB8: 15.29
B9: FESO 2027.CONSTRAINED.4.NO_VPP_MLv2 | C9: CM | D9: 27.08 | E9: 27.14 | F9: 27.33 | G9: 27.52 | H9: 27.55 | I9: 27.86 | J9: 28.11 | K9: 28.23 | L9: 28.08 | M9: 27.93 | N9: 28.2 | O9: 28.56 | P9: 28.9 | Q9: 29.05 | R9: 29.46 | S9: 30.37 | T9: 30.94 | U9: 31.82 | V9: 32.64 | W9: 33.16 | X9: 34.6 | Y9: 36.05 | Z9: 37.77 | AA9: 39.35 | AB9: 41.18
B10: FESO 2027.CONSTRAINED.4.NO_VPP_MLv2 | C10: EG | D10: 153.84 | E10: 156.28 | F10: 157.96 | G10: 157.89 | H10: 158.58 | I10: 161.31 | J10: 163.19 | K10: 165.31 | L10: 167.68 | M10: 169.38 | N10: 172.96 | O10: 175.3 | P10: 178.48 | Q10: 180.33 | R10: 184.49 | S10: 188.35 | T10: 191.79 | U10: 196.74 | V10: 202.18 | W10: 204.79 | X10: 211.25 | Y10: 218.45 | Z10: 227.97 | AA10: 236.62 | AB10: 245.51
B11: FESO 2027.CONSTRAINED.4.NO_VPP_MLv2 | C11: GL | D11: 64.54 | E11: 65.38 | F11: 65.68 | G11: 66.68 | H11: 67.81 | I11: 68.97 | J11: 70.14 | K11: 70.5 | L11: 71.65 | M11: 72.73 | N11: 74.25 | O11: 76.39 | P11: 78.26 | Q11: 79.86 | R11: 82.51 | S11: 84.18 | T11: 86.23 | U11: 88.21 | V11: 91.15 | W11: 94.3 | X11: 96.74 | Y11: 100.58 | Z11: 104.16 | AA11: 107.65 | AB11: 110.29
B12: FESO 2027.CONSTRAINED.4.NO_VPP_MLv2 | C12: GS | D12: 8.84 | E12: 8.97 | F12: 8.99 | G12: 9.08 | H12: 9.15 | I12: 9.25 | J12: 9.37 | K12: 9.39 | L12: 9.51 | M12: 9.55 | N12: 9.66 | O12: 9.81 | P12: 9.97 | Q12: 10 | R12: 10.02 | S12: 10.16 | T12: 10.28 | U12: 10.4 | V12: 10.56 | W12: 10.7 | X12: 10.84 | Y12: 11.05 | Z12: 11.14 | AA12: 11.32 | AB12: 11.49
B13: FESO 2027.CONSTRAINED.4.NO_VPP_MLv2 | C13: KD | D13: 11.44 | E13: 11.5 | F13: 11.56 | G13: 11.68 | H13: 11.74 | I13: 11.81 | J13: 11.79 | K13: 11.81 | L13: 11.85 | M13: 11.89 | N13: 12.08 | O13: 12.15 | P13: 12.27 | Q13: 12.43 | R13: 12.65 | S13: 12.92 | T13: 13.38 | U13: 13.64 | V13: 14.11 | W13: 14.49 | X13: 15.21 | Y13: 16.02 | Z13: 16.79 | AA13: 17.5 | AB13: 18.15
B14: FESO 2027.CONSTRAINED.4.NO_VPP_MLv2 | C14: KM | D14: 221.44 | E14: 224.38 | F14: 225.38 | G14: 225.51 | H14: 228.18 | I14: 231.22 | J14: 232.83 | K14: 233.12 | L14: 235.84 | M14: 239.24 | N14: 244.46 | O14: 249.65 | P14: 255.4 | Q14: 261.08 | R14: 268.02 | S14: 274.48 | T14: 279.81 | U14: 288.73 | V14: 295.12 | W14: 305.51 | X14: 318.95 | Y14: 330.74 | Z14: 340.19 | AA14: 351.17 | AB14: 361.75
B15: FESO 2027.CONSTRAINED.4.NO_VPP_MLv2 | C15: KW | D15: 53.03 | E15: 53.73 | F15: 54.48 | G15: 54.75 | H15: 55.2 | I15: 56 | J15: 56.32 | K15: 57.4 | L15: 58.37 | M15: 59.56 | N15: 60.8 | O15: 62.39 | P15: 64.05 | Q15: 65.92 | R15: 68.28 | S15: 70.68 | T15: 73.01 | U15: 74.69 | V15: 77.41 | W15: 79.97 | X15: 83.01 | Y15: 85.85 | Z15: 89.31 | AA15: 92.51 | AB15: 94.64
B16: FESO 2027.CONSTRAINED.4.NO_VPP_MLv2 | C16: MC | D16: 132.2 | E16: 134.16 | F16: 136.77 | G16: 138.86 | H16: 141.47 | I16: 144.27 | J16: 146.68 | K16: 149.89 | L16: 151.73 | M16: 154.22 | N16: 157.31 | O16: 160.92 | P16: 164.06 | Q16: 166.78 | R16: 170.32 | S16: 174.07 | T16: 179.1 | U16: 181.91 | V16: 185.21 | W16: 190.03 | X16: 193.76 | Y16: 198.57 | Z16: 204.7 | AA16: 210.47 | AB16: 214.48
B17: FESO 2027.CONSTRAINED.4.NO_VPP_MLv2 | C17: MD | D17: 11.96 | E17: 11.97 | F17: 12.08 | G17: 12.2 | H17: 12.3 | I17: 12.48 | J17: 12.57 | K17: 12.73 | L17: 12.78 | M17: 12.98 | N17: 13.15 | O17: 13.4 | P17: 13.42 | Q17: 13.62 | R17: 13.68 | S17: 14.09 | T17: 14.44 | U17: 14.74 | V17: 15 | W17: 15.45 | X17: 16.14 | Y17: 16.88 | Z17: 17.63 | AA17: 18.26 | AB17: 18.89
B18: FESO 2027.CONSTRAINED.4.NO_VPP_MLv2 | C18: MN | D18: 68.4 | E18: 69.4 | F18: 70.5 | G18: 71.66 | H18: 72.24 | I18: 73.2 | J18: 74.37 | K18: 75.36 | L18: 76.32 | M18: 77.53 | N18: 79.9 | O18: 81.87 | P18: 84.12 | Q18: 85.57 | R18: 86.99 | S18: 89.29 | T18: 91.7 | U18: 93.94 | V18: 96.34 | W18: 98.67 | X18: 100.99 | Y18: 103.72 | Z18: 107.16 | AA18: 109.64 | AB18: 113.24
... B79: FESO 2027.RAPID.4.NO_VPP_MLv2 | C79: WL | D79: 148.82 | E79: 149.58 | F79: 151.27 | G79: 152.27 | H79: 153.1 | I79: 155.6 | J79: 168 | K79: 181.2 | L79: 196.16 | M79: 212.32 | N79: 219.72 | O79: 229.1 | P79: 238.61 | Q79: 246.91 | R79: 253.85 | S79: 260.47 | T79: 268.28 | U79: 276.57 | V79: 285.18 | W79: 291.59 | X79: 301.14 | Y79: 306 | Z79: 313.06 | AA79: 313.4 | AB79: 316.96
B81: Existing large loads (MWh)
B82: Source:
B83: SCENARIO_NAME | C83: NODE | D83: 2026 | E83: 2027 | F83: 2028 | G83: 2029 | H83: 2030 | I83: 2031 | J83: 2032 | K83: 2033 | L83: 2034 | M83: 2035 | N83: 2036 | O83: 2037 | P83: 2038 | Q83: 2039 | R83: 2040 | S83: 2041 | T83: 2042 | U83: 2043 | V83: 2044 | W83: 2045 | X83: 2046 | Y83: 2047 | Z83: 2048 | AA83: 2049 | AB83: 2050
B84: FESO 2027.CONSTRAINED.4.NO_VPP_MLv2 | C84: CD | D84: 45637.07 | E84: 46273.49 | F84: 47039.61 | G84: 47561.73 | H84: 48221.355 | I84: 48958.765 | J84: 49821.43 | K84: 50403.22 | L84: 51128.8 | M84: 51854.375 | N84: 52924.875 | O84: 53652.84 | P84: 54622.54 | Q84: 55620.315 | R84: 56795.76 | S84: 57680.86 | T84: 58746.23 | U84: 59859.6 | V84: 61160.58 | W84: 62138.765 | X84: 63777.79 | Y84: 65436.745 | Z84: 67314.945 | AA84: 68831.46 | AB84: 70563.62
B85: FESO 2027.CONSTRAINED.4.NO_VPP_MLv2 | C85: CM | D85: 150562.52 | E85: 151052.33 | F85: 151937.74 | G85: 152009.3 | H85: 152506.73 | I85: 152991.25 | J85: 153899.81 | K85: 153970.63 | L85: 154466.18 | M85: 154954.57 | N85: 156826.41 | O85: 157874.77 | P85: 159358.05 | Q85: 160839.38 | R85: 162791.89 | S85: 166798.32 | T85: 171286.89 | U85: 175806.77 | V85: 180858.48 | W85: 184948.38 | X85: 193128.04 | Y85: 201358.14 | Z85: 210235.05 | AA85: 218017.1 | AB85: 226423.14
B86: FESO 2027.CONSTRAINED.4.NO_VPP_MLv2 | C86: EG | D86: 975697.92 | E86: 981988.11 | F86: 990783.2 | G86: 994810.65 | H86: 1001506.7 | I86: 1009651.2 | J86: 1020441.9 | K86: 1025933.6 | L86: 1034131.7 | M86: 1042344.6 | N86: 1059307.4 | O86: 1070750.4 | P86: 1085404 | Q86: 1100460.2 | R86: 1118524.4 | S86: 1142326.2 | T86: 1169325.9 | U86: 1196601.2 | V86: 1227269.5 | W86: 1251902.3 | X86: 1301683.6 | Y86: 1351827.9 | Z86: 1406197.8 | AA86: 1453688.2 | AB86: 1505235.5
B87: FESO 2027.CONSTRAINED.4.NO_VPP_MLv2 | C87: GL | D87: 344382.94 | E87: 347995.89 | F87: 352648.62 | G87: 355307.23 | H87: 359077.02 | I87: 363379.72 | J87: 368752.82 | K87: 371880.83 | L87: 376150.85 | M87: 380418.41 | N87: 392385.36 | O87: 401872.4 | P87: 413011.71 | Q87: 424392.15 | R87: 437269.49 | S87: 447972.68 | T87: 460172.25 | U87: 472616.28 | V87: 486667.11 | W87: 497962.2 | X87: 514128.14 | Y87: 530459.8 | Z87: 548688.67 | AA87: 563772.58 | AB87: 580703.3
B88: FESO 2027.CONSTRAINED.4.NO_VPP_MLv2 | C88: GS | D88: 39657.365 | E88: 39957.69 | F88: 40396.065 | G88: 40555.995 | H88: 40862.57 | I88: 41175.835 | J88: 41629.14 | K88: 41793.39 | L88: 42104.37 | M88: 42416.225 | N88: 42957.465 | O88: 43187.93 | P88: 43603.12 | Q88: 44023.945 | R88: 44666.73 | S88: 45026.955 | T88: 45550.19 | U88: 46089.795 | V88: 46796.315 | W88: 47180.115 | X88: 47802.99 | Y88: 48431.195 | Z88: 49240.81 | AA88: 49720.545 | AB88: 50376.965
B89: FESO 2027.CONSTRAINED.4.NO_VPP_MLv2 | C89: KD | D89: 72823.845 | E89: 73053.24 | F89: 73346.515 | G89: 73499.53 | H89: 73735.51 | I89: 73964.105 | J89: 74272.145 | K89: 74430.39 | L89: 74664.11 | M89: 74894.055 | N89: 75644.505 | O89: 76256.135 | P89: 76947.56 | Q89: 77638.21 | R89: 78405.42 | S89: 80567.92 | T89: 82831.9 | U89: 85111.315 | V89: 87491.25 | W89: 89712.525 | X89: 93929.76 | Y89: 98171.16 | Z89: 102550.71 | AA89: 106756.21 | AB89: 111083.12
B90: FESO 2027.CONSTRAINED.4.NO_VPP_MLv2 | C90: KM | D90: 1480604.8 | E90: 1490048.1 | F90: 1503060 | G90: 1509071.2 | H90: 1518970.3 | I90: 1530345.9 | J90: 1545522.9 | K90: 1553095.2 | L90: 1564553.8 | M90: 1576001.4 | N90: 1609902.5 | O90: 1635972.9 | P90: 1666778.8 | Q90: 1698142.4 | R90: 1734211.4 | S90: 1778124.7 | T90: 1826901.2 | U90: 1876175.6 | V90: 1930725.8 | W90: 1976139 | X90: 2054437.9 | Y90: 2133326.9 | Z90: 2218706.5 | AA90: 2293585.8 | AB90: 2374683.1
B91: FESO 2027.CONSTRAINED.4.NO_VPP_MLv2 | C91: KW | D91: 344704.78 | E91: 348335.07 | F91: 352990.84 | G91: 355739.99 | H91: 359582.76 | I91: 364200.05 | J91: 369876.09 | K91: 373339.67 | L91: 377944.65 | M91: 382553.94 | N91: 394107.81 | O91: 403226.3 | P91: 413949.41 | Q91: 424949.54 | R91: 437386.07 | S91: 447715.71 | T91: 459520.51 | U91: 471500.8 | V91: 485069.43 | W91: 495930.49 | X91: 512886.25 | Y91: 530009.3 | Z91: 549021.55 | AA91: 564950.81 | AB91: 582705.66
B92: FESO 2027.CONSTRAINED.4.NO_VPP_MLv2 | C92: MC | D92: 592650.73 | E92: 603012.12 | F92: 615277.68 | G92: 623791 | H92: 634318.65 | I92: 645112.04 | J92: 657662.36 | K92: 666087.98 | L92: 676627.21 | M92: 687163.46 | N92: 703490 | O92: 714559.31 | P92: 729536.81 | Q92: 744810.56 | R92: 762794.19 | S92: 776065.52 | T92: 792077.32 | U92: 808973.09 | V92: 828767.25 | W92: 843668.74 | X92: 863537.62 | Y92: 883710.46 | Z92: 907176.47 | AA92: 925191.6 | AB92: 946431.35
B93: FESO 2027.CONSTRAINED.4.NO_VPP_MLv2 | C93: MD | D93: 74263.255 | E93: 74627.76 | F93: 75246.72 | G93: 75362.17 | H93: 75747.26 | I93: 76193.275 | J93: 76910.645 | K93: 77088.68 | L93: 77540.955 | M93: 77992.17 | N93: 79103.745 | O93: 79660.03 | P93: 80517.615 | Q93: 81394.625 | R93: 82566.245 | S93: 84360.02 | T93: 86466.975 | U93: 88590.005 | V93: 91045.595 | W93: 92886.18 | X93: 96867.88 | Y93: 100875.46 | Z93: 105294.05 | AA93: 109010.04 | AB93: 113122.82
B94: FESO 2027.CONSTRAINED.4.NO_VPP_MLv2 | C94: MN | D94: 334520.14 | E94: 338716.85 | F94: 343926.46 | G94: 347055.37 | H94: 351256.73 | I94: 355570.21 | J94: 360841.44 | K94: 363891.12 | L94: 368051.59 | M94: 372182.17 | N94: 382546.36 | O94: 390225.28 | P94: 399780.84 | Q94: 409456.69 | R94: 420552.47 | S94: 429411.02 | T94: 439713.24 | U94: 450582.47 | V94: 462998.49 | W94: 472700.57 | X94: 485171.72 | Y94: 497764.21 | Z94: 512134.21 | AA94: 523441.97 | AB94: 536479.56
... B155: FESO 2027.RAPID.4.NO_VPP_MLv2 | C155: WL | D155: 993371.3 | E155: 999682.98 | F155: 1008348.3 | G155: 1012223.5 | H155: 1018656 | I155: 1028643.9 | J155: 1111772.3 | K155: 1191955.3 | L155: 1295626.6 | M155: 1400295.4 | N155: 1453529.3 | O155: 1500409.9 | P155: 1551262.2 | Q155: 1602523.2 | R155: 1656397.1 | S155: 1697901.7 | T155: 1743940.2 | U155: 1790438.5 | V155: 1841736.9 | W155: 1884619 | X155: 1932488.6 | Y155: 1966759.5 | Z155: 2006356.8 | AA155: 2017996.5 | AB155: 2034492
B157: New large loads Peak (MW)
B158: Source:
B159: SCENARIO_NAME | C159: NODE | D159: 2026 | E159: 2027 | F159: 2028 | G159: 2029 | H159: 2030 | I159: 2031 | J159: 2032 | K159: 2033 | L159: 2034 | M159: 2035 | N159: 2036 | O159: 2037 | P159: 2038 | Q159: 2039 | R159: 2040 | S159: 2041 | T159: 2042 | U159: 2043 | V159: 2044 | W159: 2045 | X159: 2046 | Y159: 2047 | Z159: 2048 | AA159: 2049 | AB159: 2050
B160: FESO 2027.CONSTRAINED.4.NO_VPP_MLv2 | C160: GL | E160: 62 | F160: 62.21 | G160: 62.11 | H160: 61.86 | I160: 62.05 | J160: 63.55 | K160: 63.56 | L160: 63.6 | M160: 63.53 | N160: 65.41 | O160: 127.91 | P160: 127.72 | Q160: 127.53 | R160: 127.48 | S160: 127.64 | T160: 127.32 | U160: 127.94 | V160: 127.87 | W160: 127.8 | X160: 128.04 | Y160: 127.88 | Z160: 127.93 | AA160: 127.76 | AB160: 127.77
B161: FESO 2027.CONSTRAINED.4.NO_VPP_MLv2 | C161: GS | R161: 14.33 | S161: 28.95 | T161: 43.38 | U161: 57.5 | V161: 72.28 | W161: 72.06 | X161: 72.31 | Y161: 71.96 | Z161: 71.92 | AA161: 72.02 | AB161: 72.44
B162: FESO 2027.CONSTRAINED.4.NO_VPP_MLv2 | C162: KW | F162: 38.06 | G162: 38.23 | H162: 38.14 | I162: 37.84 | J162: 37.63 | K162: 37.62 | L162: 37.79 | M162: 206.84 | N162: 207.67 | O162: 206.5 | P162: 205.99 | Q162: 211.73 | R162: 215.84 | S162: 224.25 | T162: 227.93 | U162: 234.89 | V162: 238.54 | W162: 249.3 | X162: 260.54 | Y162: 272.6 | Z162: 283.04 | AA162: 287.08 | AB162: 286.99
B163: FESO 2027.CONSTRAINED.4.NO_VPP_MLv2 | C163: MC | G163: 1.16 | H163: 1.16 | I163: 1.16 | J163: 1.16 | K163: 1.17 | L163: 1.16 | M163: 1.16 | N163: 1.15 | O163: 1.16 | P163: 1.15 | Q163: 1.16 | R163: 1.16 | S163: 1.17 | T163: 1.17 | U163: 3.12 | V163: 3.11 | W163: 3.12 | X163: 3.12 | Y163: 3.12 | Z163: 3.13 | AA163: 3.11 | AB163: 3.12
...

Sheet Large load decarbonisation
B1: Back to summary
B2: Large load decarbonisation
B3: Category B large loads: decarbonisation of existing industrial and commercial large consumers of fuel. Demand is estimated per sector and is then disaggregated into zones.
E4: SWIS electricity use (TWh)
B5: EPWA Sector | C5: Scenario | D5: Energy Type | E5: 2026-27 | F5: 2027-28 | G5: 2028-29 | H5: 2029-30 | I5: 2030-31 | J5: 2031-32 | K5: 2032-33 | L5: 2033-34 | M5: 2034-35 | N5: 2035-36 | O5: 2036-37 | P5: 2037-38 | Q5: 2038-39 | R5: 2039-40 | S5: 2040-41 | T5: 2041-42 | U5: 2042-43 | V5: 2043-44 | W5: 2044-45 | X5: 2045-46 | Y5: 2046-47 | Z5: 2047-48 | AA5: 2048-49 | AB5: 2049-50 | AC5: 2050-51
B6: Mining | C6: Central | D6: Electricity | E6: - | F6: - | G6: - | H6: - | I6: - | J6: - | K6: - | L6: - | M6: - | N6: - | O6: 0.019 | P6: 0.0381 | Q6: 0.0571 | R6: 0.0761 | S6: 0.0952 | T6: 0.1126 | U6: 0.1301 | V6: 0.1475 | W6: 0.165 | X6: 0.1824 | Y6: 0.1999 | Z6: 0.2173 | AA6: 0.2348 | AB6: 0.2522 | AC6: 0.2697
D7: Stationary | E7: - | F7: - | G7: - | H7: - | I7: - | J7: - | K7: - | L7: - | M7: - | N7: - | O7: 0.0782 | P7: 0.1564 | Q7: 0.2346 | R7: 0.3128 | S7: 0.391 | T7: 0.4302 | U7: 0.4693 | V7: 0.5084 | W7: 0.5475 | X7: 0.5866 | Y7: 0.6257 | Z7: 0.6648 | AA7: 0.7039 | AB7: 0.743 | AC7: 0.7821
D8: Transport | E8: 0.0006 | F8: 0.0012 | G8: 0.0018 | H8: 0.0024 | I8: 0.0031 | J8: 0.0037 | K8: 0.0043 | L8: 0.0049 | M8: 0.0055 | N8: 0.0061 | O8: 0.0067 | P8: 0.1083 | Q8: 0.2099 | R8: 0.3114 | S8: 0.413 | T8: 0.5262 | U8: 0.6394 | V8: 0.7526 | W8: 0.8658 | X8: 0.979 | Y8: 1.0922 | Z8: 1.2054 | AA8: 1.3186 | AB8: 1.4317 | AC8: 1.5449
C9: Rapid Change | D9: Electricity | E9: - | F9: - | G9: - | H9: - | I9: - | J9: 0.0143 | K9: 0.0286 | L9: 0.0428 | M9: 0.0571 | N9: 0.0714 | O9: 0.0857 | P9: 0.0999 | Q9: 0.1142 | R9: 0.1285 | S9: 0.1428 | T9: 0.1586 | U9: 0.1745 | V9: 0.1903 | W9: 0.2062 | X9: 0.2221 | Y9: 0.2379 | Z9: 0.2538 | AA9: 0.2697 | AB9: 0.2855 | AC9: 0.3014
D10: Stationary | E10: - | F10: - | G10: - | H10: - | I10: - | J10: - | K10: - | L10: 0.0075 | M10: 0.1081 | N10: 0.2086 | O10: 0.3092 | P10: 0.4098 | Q10: 0.5103 | R10: 0.6109 | S10: 0.7039 | T10: 0.7751 | U10: 0.8464 | V10: 0.9177 | W10: 0.9889 | X10: 1.0602 | Y10: 1.1314 | Z10: 1.2027 | AA10: 1.2739 | AB10: 1.2739 | AC10: 1.2739
D11: Transport | E11: 0.0015 | F11: 0.0031 | G11: 0.0046 | H11: 0.0061 | I11: 0.0076 | J11: 0.0092 | K11: 0.3136 | L11: 0.618 | M11: 0.9224 | N11: 1.2268 | O11: 1.2829 | P11: 1.339 | Q11: 1.395 | R11: 1.4511 | S11: 1.5072 | T11: 1.5633 | U11: 1.6194 | V11: 1.6755 | W11: 1.7316 | X11: 1.7877 | Y11: 1.8437 | Z11: 1.8448 | AA11: 1.8458 | AB11: 1.8468 | AC11: 1.8478
C12: Constrained | D12: Electricity | E12: - | F12: - | G12: - | H12: - | I12: - | J12: - | K12: - | L12: - | M12: - | N12: - | O12: 0.0063 | P12: 0.0127 | Q12: 0.019 | R12: 0.0254 | S12: 0.0317 | T12: 0.0381 | U12: 0.0444 | V12: 0.0508 | W12: 0.0571 | X12: 0.0634 | Y12: 0.0698 | Z12: 0.0761 | AA12: 0.0825 | AB12: 0.0888 | AC12: 0.0952
D13: Stationary | E13: - | F13: - | G13: - | H13: - | I13: - | J13: - | K13: - | L13: - | M13: - | N13: - | O13: 0.0171 | P13: 0.0343 | Q13: 0.0514 | R13: 0.0686 | S13: 0.0857 | T13: 0.1044 | U13: 0.123 | V13: 0.1417 | W13: 0.1604 | X13: 0.179 | Y13: 0.2966 | Z13: 0.4142 | AA13: 0.5318 | AB13: 0.6494 | AC13: 0.767
D14: Transport | E14: 0.0006 | F14: 0.0012 | G14: 0.0018 | H14: 0.0024 | I14: 0.0031 | J14: 0.0037 | K14: 0.0043 | L14: 0.0049 | M14: 0.0055 | N14: 0.0061 | O14: 0.0067 | P14: 0.0073 | Q14: 0.0079 | R14: 0.0086 | S14: 0.0092 | T14: 0.0906 | U14: 0.1719 | V14: 0.2533 | W14: 0.3347 | X14: 0.4161 | Y14: 0.5005 | Z14: 0.5849 | AA14: 0.6694 | AB14: 0.7538 | AC14: 0.8382
B15: Manufacturing (heat only) | C15: Central | D15: Electricity | E15: - | F15: - | G15: - | H15: - | I15: - | J15: - | K15: - | L15: - | M15: - | N15: - | O15: 0.0103 | P15: 0.0205 | Q15: 0.0308 | R15: 0.0411 | S15: 0.0513 | T15: 0.059 | U15: 0.0667 | V15: 0.0744 | W15: 0.0821 | X15: 0.0898 | Y15: 0.0975 | Z15: 0.1052 | AA15: 0.1129 | AB15: 0.1206 | AC15: 0.1283
D16: Stationary | E16: - | F16: - | G16: - | H16: - | I16: - | J16: - | K16: - | L16: - | M16: - | N16: - | O16: 0.0797 | P16: 0.1594 | Q16: 0.2391 | R16: 0.3187 | S16: 0.3984 | T16: 0.4781 | U16: 0.5578 | V16: 0.6375 | W16: 0.7172 | X16: 0.7968 | Y16: 0.9562 | Z16: 1.1156 | AA16: 1.275 | AB16: 1.4343 | AC16: 1.5937
D17: Transport | E17: 0.0004 | F17: 0.0007 | G17: 0.0011 | H17: 0.0014 | I17: 0.0018 | J17: 0.0021 | K17: 0.0025 | L17: 0.0028 | M17: 0.0032 | N17: 0.0035 | O17: 0.0039 | P17: 0.0067 | Q17: 0.0096 | R17: 0.0125 | S17: 0.0153 | T17: 0.0182 | U17: 0.021 | V17: 0.0239 | W17: 0.0268 | X17: 0.0296 | Y17: 0.0345 | Z17: 0.0394 | AA17: 0.0442 | AB17: 0.0491 | AC17: 0.054
C18: Rapid Change | D18: Electricity | E18: - | F18: - | G18: - | H18: - | I18: - | J18: 0.0103 | K18: 0.0205 | L18: 0.0308 | M18: 0.0411 | N18: 0.0513 | O18: 0.0616 | P18: 0.0718 | Q18: 0.0821 | R18: 0.0924 | S18: 0.1026 | T18: 0.1129 | U18: 0.1232 | V18: 0.1334 | W18: 0.1437 | X18: 0.154 | Y18: 0.1642 | Z18: 0.1745 | AA18: 0.1847 | AB18: 0.195 | AC18: 0.2053
D19: Stationary | E19: - | F19: - | G19: - | H19: - | I19: - | J19: - | K19: - | L19: - | M19: 0.2277 | N19: 0.4553 | O19: 0.683 | P19: 0.9107 | Q19: 1.1384 | R19: 1.366 | S19: 1.5937 | T19: 1.7132 | U19: 1.8327 | V19: 1.9523 | W19: 2.0718 | X19: 2.1913 | Y19: 2.3109 | Z19: 2.4304 | AA19: 2.5499 | AB19: 2.6694 | AC19: 2.789
D20: Transport | E20: 0.0005 | F20: 0.0009 | G20: 0.0014 | H20: 0.0019 | I20: 0.0024 | J20: 0.0028 | K20: 0.0075 | L20: 0.0121 | M20: 0.0168 | N20: 0.0214 | O20: 0.0261 | P20: 0.0307 | Q20: 0.0354 | R20: 0.04 | S20: 0.0447 | T20: 0.0505 | U20: 0.0563 | V20: 0.0621 | W20: 0.068 | X20: 0.0738 | Y20: 0.0796 | Z20: 0.0798 | AA20: 0.08 | AB20: 0.0801 | AC20: 0.0803
C21: Constrained | D21: Electricity | E21: - | F21: - | G21: - | H21: - | I21: - | J21: - | K21: - | L21: - | M21: - | N21: - | O21: 0.0026 | P21: 0.0051 | Q21: 0.0077 | R21: 0.0103 | S21: 0.0128 | T21: 0.0154 | U21: 0.018 | V21: 0.0205 | W21: 0.0231 | X21: 0.0257 | Y21: 0.0462 | Z21: 0.0667 | AA21: 0.0872 | AB21: 0.1078 | AC21: 0.1283
D22: Stationary | E22: - | F22: - | G22: - | H22: - | I22: - | J22: - | K22: - | L22: - | M22: - | N22: - | O22: 0.0585 | P22: 0.1171 | Q22: 0.1756 | R22: 0.2342 | S22: 0.2927 | T22: 0.3513 | U22: 0.4098 | V22: 0.4683 | W22: 0.5269 | X22: 0.5854 | Y22: 0.6245 | Z22: 0.6635 | AA22: 0.7025 | AB22: 0.7415 | AC22: 0.7806
D23: Transport | E23: 0.0003 | F23: 0.0005 | G23: 0.0008 | H23: 0.0011 | I23: 0.0013 | J23: 0.0016 | K23: 0.0019 | L23: 0.0021 | M23: 0.0024 | N23: 0.0026 | O23: 0.0029 | P23: 0.0032 | Q23: 0.0034 | R23: 0.0037 | S23: 0.004 | T23: 0.0057 | U23: 0.0075 | V23: 0.0093 | W23: 0.011 | X23: 0.0128 | Y23: 0.015 | Z23: 0.0172 | AA23: 0.0194 | AB23: 0.0217 | AC23: 0.0239
B24: Non-mining>other | C24: Central | D24: Electricity | E24: - | F24: - | G24: - | H24: - | I24: - | J24: - | K24: - | L24: - | M24: - | N24: - | O24: 0.0021 | P24: 0.0042 | Q24: 0.0062 | R24: 0.0083 | S24: 0.0104 | T24: 0.0115 | U24: 0.0125 | V24: 0.0135 | W24: 0.0146 | X24: 0.0156 | Y24: 0.0167 | Z24: 0.0177 | AA24: 0.0187 | AB24: 0.0198 | AC24: 0.0208
D25: Stationary | E25: - | F25: - | G25: - | H25: - | I25: - | J25: - | K25: - | L25: - | M25: - | N25: - | O25: 0.0079 | P25: 0.0159 | Q25: 0.0238 | R25: 0.0318 | S25: 0.0397 | T25: 0.0437 | U25: 0.0476 | V25: 0.0516 | W25: 0.0556 | X25: 0.0595 | Y25: 0.0635 | Z25: 0.0675 | AA25: 0.0714 | AB25: 0.0754 | AC25: 0.0794
D26: Transport | E26: 0.0023 | F26: 0.0046 | G26: 0.0081 | H26: 0.0145 | I26: 0.021 | J26: 0.0404 | K26: 0.0599 | L26: 0.0793 | M26: 0.0988 | N26: 0.1183 | O26: 0.1388 | P26: 0.1593 | Q26: 0.1798 | R26: 0.2003 | S26: 0.2208 | T26: 0.2461 | U26: 0.2714 | V26: 0.2954 | W26: 0.3246 | X26: 0.3537 | Y26: 0.4121 | Z26: 0.4704 | AA26: 0.5288 | AB26: 0.5871 | AC26: 0.6455
C27: Rapid Change | D27: Electricity | E27: - | F27: - | G27: - | H27: 0.0005 | I27: 0.001 | J27: 0.0026 | K27: 0.0043 | L27: 0.0059 | M27: 0.0075 | N27: 0.0092 | O27: 0.0108 | P27: 0.0125 | Q27: 0.0141 | R27: 0.0157 | S27: 0.0174 | T27: 0.0189 | U27: 0.0205 | V27: 0.022 | W27: 0.0236 | X27: 0.0252 | Y27: 0.0267 | Z27: 0.0283 | AA27: 0.0299 | AB27: 0.0314 | AC27: 0.033
